BEGIN:VCALENDAR
PRODID:NingEventWidget-v1
VERSION:2.0
METHOD:PUBLISH
BEGIN:VTIMEZONE
TZID:Europe/Paris
X-LIC-LOCATION:Europe/Paris
BEGIN:DAYLIGHT
TZOFFSETFROM:+0100
TZOFFSETTO:+0200
TZNAME:CEST
DTSTART:19700329T020000
RRULE:FREQ=YEARLY;BYMONTH=3;BYDAY=-1SU
END:DAYLIGHT
BEGIN:STANDARD
TZOFFSETFROM:+0200
TZOFFSETTO:+0100
TZNAME:CET
DTSTART:19701025T030000
RRULE:FREQ=YEARLY;BYMONTH=10;BYDAY=-1SU
END:STANDARD
END:VTIMEZONE
BEGIN:VEVENT
UID:2485226:Event:213208
DTSTAMP:20260424T023333Z
SUMMARY:stage \"massage de relaxation\"
DESCRIPTION:Nous vous proposons de participer Ã  nos stages\"massages 
 de relaxation et techniques Ã©nergÃ©tiques\"La formation complÃ¨te en 
 3 sÃ©ances sera assurÃ©e par une relaxologue diplÃ´mÃ©e de l'Universit
 Ã© de Shanghai et de l'Ã©cole Guines Ã  QuÃ©bec.3 lundi successifs ( 7
 -14-21 mars) de 14hÃ  18h(voir les Ã©vÃ¨nements des 7 et 14 mars dÃ©jÃ
   en ligne)tarif 70E comprenant les 3 sÃ©ances de 4 h\n\nPour plus d'i
 nformation, aller sur https://epanews.fr/events/stage-massage-de-relax
 ation-1
DTSTART;TZID=Europe/Paris:20110321T140000
DTEND;TZID=Europe/Paris:20110321T180000
CATEGORIES:83
LOCATION:Toulon
WEBSITE:
URL:
CONTACT:0618671786
ORGANIZER;CN=tina83:https://epanews.fr/profile/tina83
ATTACH;FMTTYPE="image/jpeg":
ATTENDEE;ROLE=REQ-PARTICIPANT;PARTSTAT=ACCEPTED;RSVP=TRUE;CN=tina83:ht
 tps://epanews.fr/profile/tina83
END:VEVENT
END:VCALENDAR
