BEGIN:VCALENDAR
PRODID:NingEventWidget-v1
VERSION:2.0
METHOD:PUBLISH
BEGIN:VTIMEZONE
TZID:Europe/Paris
X-LIC-LOCATION:Europe/Paris
BEGIN:DAYLIGHT
TZOFFSETFROM:+0100
TZOFFSETTO:+0200
TZNAME:CEST
DTSTART:19700329T020000
RRULE:FREQ=YEARLY;BYMONTH=3;BYDAY=-1SU
END:DAYLIGHT
BEGIN:STANDARD
TZOFFSETFROM:+0200
TZOFFSETTO:+0100
TZNAME:CET
DTSTART:19701025T030000
RRULE:FREQ=YEARLY;BYMONTH=10;BYDAY=-1SU
END:STANDARD
END:VTIMEZONE
BEGIN:VEVENT
UID:2485226:Event:2792233
DTSTAMP:20260422T121901Z
SUMMARY:Stage « Masques larvaires » (4-5 mars 2017)
DESCRIPTION:Stage proposé par la Compagnie À Vol d’Oiseau et dirig
 é par Fransoise Simon (Paris)\n\n4-5 mars 2017 (10-17h)\nAvec le masq
 ue, c’est le corps (dans sa capacité d’exprimer par un jeu grand 
 et précis les émotions et les sentiments) qui est sollicité.\nÀ tr
 avers des formes simplifiées, mais très marquées, de la figure huma
 ine, les masques larvaires (masques entiers) proposent un jeu simple m
 ais large, et qui va directement à l’essentiel. D’expression neut
 re au départ, ils exigent cependant un investissement physique fort q
 ui puisse montrer le corps marqué par le comportement, le tempéramen
 t, les états et les grandes émotions. Le masque trace dans le corps 
 et l’espace les grandes lignes des émotions et des passions humaine
 s. L’extériorisation des caractères dans le corps, et des rapports
  entre les personnages dans l’espace, est maximale.\nLa recherche de
 s gestes élémentaires et nécessaires permettra de faire exister les
  personnages dans leur propre espace et développer leurs relations en
  situation théâtrale. Le travail consiste à chercher tous les moyen
 s à notre disposition, autres que la parole pour faire vivre les pers
 onnages, et développer ainsi un théâtre gestuel d’images, de sens
 ations, de grande poésie.\n \nAutres stages de la Cie :\n- stages d
 e clown (25-26 mars 2017 ; 13-14 mai 2017)\n2 stages d’été en Do
 rdogne / juillet et août 2017\n- Chant polyphonique de tradition ora
 le (10-14 juillet 2017)\n- Clown et chant (21-25 août 2017)\n\nRensei
 gnements et inscriptions :\nTél. : 06 86 94 77 39 / Mail : avoldoi
 seau@wanadoo.fr\n\nPour plus d'information, aller sur https://epanews.
 fr/events/stage-masques-larvaires-4-5-mars-2017
DTSTART;TZID=Europe/Paris:20170304T100000
DTEND;TZID=Europe/Paris:20170305T170000
CATEGORIES:93
LOCATION:Studio Albatros
WEBSITE:http://clownairlinescompany.blogspot.com/
URL:http://clownairlinescompany.blogspot.com/
CONTACT:0686947739
ORGANIZER;CN="Compagnie À VOL D'OISEAU":https://epanews.fr/profile/Co
 mpagnieAVOLDOISEAU
ATTACH;FMTTYPE="image/jpeg":http://storage.ning.com/topology/rest/1.0/
 file/get/1663646271?profile=original
ATTENDEE;ROLE=REQ-PARTICIPANT;PARTSTAT=ACCEPTED;RSVP=TRUE;CN="Compagni
 e À VOL D'OISEAU":https://epanews.fr/profile/CompagnieAVOLDOISEAU
END:VEVENT
END:VCALENDAR
