BEGIN:VCALENDAR
PRODID:NingEventWidget-v1
VERSION:2.0
METHOD:PUBLISH
BEGIN:VTIMEZONE
TZID:Europe/Paris
X-LIC-LOCATION:Europe/Paris
BEGIN:DAYLIGHT
TZOFFSETFROM:+0100
TZOFFSETTO:+0200
TZNAME:CEST
DTSTART:19700329T020000
RRULE:FREQ=YEARLY;BYMONTH=3;BYDAY=-1SU
END:DAYLIGHT
BEGIN:STANDARD
TZOFFSETFROM:+0200
TZOFFSETTO:+0100
TZNAME:CET
DTSTART:19701025T030000
RRULE:FREQ=YEARLY;BYMONTH=10;BYDAY=-1SU
END:STANDARD
END:VTIMEZONE
BEGIN:VEVENT
UID:2485226:Event:2794418
DTSTAMP:20260422T134731Z
SUMMARY:Stage Marc VELLA \"Vivre autrement la musique\" 220â‚¬
DESCRIPTION:Qui dans sa vie nâ€™a pas Ã©tÃ© maladroit, insuffisant, dÃ
 ©faillant ?\nQui nâ€™a pas manquÃ© parfois de discernement? Qui nâ€™a 
 pas Ã©tÃ© blessÃ©, offensÃ© ? Et si toutes ces fausses notes Ã©taient 
 une chance ? Et si elles Ã©taient notre plus grande aventure donnant u
 n sens Ã  notre vie... Nous nâ€™avons quâ€™un devoir : accueillir les 
 fausses notes pour les rendre belles.\nCet atelier propose Ã  des pers
 onnes nâ€™ayant jamais fait de musique de jouer en se faisant plaisir,
  en Â«osantÂ» toutes les notes et offre Ã  des musiciens formatÃ©s par
  lâ€™apprentissage, une plus grande libertÃ© dâ€™expression. En improv
 isant sur le piano, vous dÃ©couvrirez quâ€™il nâ€™y a pas de fausses n
 otes. Tout votre Ãªtre jusquâ€™Ã  vos cellules enregistrera ce message
  joyeux et guÃ©risseur.\nLe vibrant Ã  votre Ãªtre vibratoire, voilÃ  
 le plus court chemin pour harmoniser sa vie...\nVous connaÃ®trez la gr
 Ã¢ce dâ€™Ãªtre traversÃ©... Vivre autrement la musique de la vie est p
 lus quâ€™un simple stage de musique, il nous accorde en profondeur.\nU
 n musicien est avant tout quelquâ€™un qui entre en amour avec le silen
 ce\n\nPour plus d'information, aller sur https://epanews.fr/events/sta
 ge-marc-vella-vivre-autrement-la-musique
DTSTART;TZID=Europe/Paris:20170304T093000
DTEND;TZID=Europe/Paris:20170305T173000
CATEGORIES:54
LOCATION:VILLERS CLAIRLIEU
WEBSITE:http://p1.storage.canalblog.com/11/30/241117/112586823.pdf
URL:http://p1.storage.canalblog.com/11/30/241117/112586823.pdf
CONTACT:0643335605
ORGANIZER;CN="Christian CRAPOIX":https://epanews.fr/profile/ChristianC
 RAPOIX
ATTACH;FMTTYPE="image/jpeg":http://storage.ning.com/topology/rest/1.0/
 file/get/1663644646?profile=original
ATTENDEE;ROLE=REQ-PARTICIPANT;PARTSTAT=ACCEPTED;RSVP=TRUE;CN="Christia
 n CRAPOIX":https://epanews.fr/profile/ChristianCRAPOIX
END:VEVENT
END:VCALENDAR
