BEGIN:VCALENDAR
PRODID:NingEventWidget-v1
VERSION:2.0
METHOD:PUBLISH
BEGIN:VTIMEZONE
TZID:Europe/Paris
X-LIC-LOCATION:Europe/Paris
BEGIN:DAYLIGHT
TZOFFSETFROM:+0100
TZOFFSETTO:+0200
TZNAME:CEST
DTSTART:19700329T020000
RRULE:FREQ=YEARLY;BYMONTH=3;BYDAY=-1SU
END:DAYLIGHT
BEGIN:STANDARD
TZOFFSETFROM:+0200
TZOFFSETTO:+0100
TZNAME:CET
DTSTART:19701025T030000
RRULE:FREQ=YEARLY;BYMONTH=10;BYDAY=-1SU
END:STANDARD
END:VTIMEZONE
BEGIN:VEVENT
UID:2485226:Event:1860974
DTSTAMP:20260421T161108Z
SUMMARY:Stage mÃ©thode Free Moon
DESCRIPTION:FREE MOON est une mÃ©thode qui axe son enseignement sur un
  travail pÃ©rinÃ©ale.Ludique : Par la danse, le chant, la relaxation e
 tc...Ce travail se fait sur trois niveaux:Â physiologique,Ã©nergÃ©tiqu
 e,spirituel.Un enseignement complet sur une faÃ§on diffÃ©rente de voir
  la fÃ©minitÃ©, la masculinitÃ©, la sexualitÃ©, la vie de couple, les 
 menstruations, la mÃ©nopause etc...DES RESULTATS TANGIBLES :Â Pour tou
 s:Activation de lâ€™Ã©nergie vitale (Chi)Meilleure oxygÃ©nation et sti
 mulation des tissusAmÃ©lioration du plaisir sexuelStimulation de la li
 bidoAmÃ©lioration du confort physiologique...Â Pour les femmes:LibertÃ
 © de ne plus utiliser de protections hygiÃ©niques !Disparition des dou
 leurs menstruellesUne meilleure comprÃ©hension des diffÃ©rentes Ã©tape
 s du cycle menstruelSimplification du passage de la mÃ©nopauseAmÃ©lior
 ation de la fertilitÃ©RÃ©duction des risques dâ€™incontinence et de de
 scente d'organesÂ Pour les hommes:Diminution des troubles de la prosta
 teMaÃ®trise de lâ€™Ã©jaculation prÃ©coceMieux connaÃ®tre et comprendre
  les femmesPour plus de dÃ©tail sur le stage :Â http://free.moon.free.
 fr/Free_Moon/Stages_Free_Moon.html\n\nPour plus d'information, aller s
 ur https://epanews.fr/events/stage-m-thode-free-moon-1
DTSTART;TZID=Europe/Paris:20140524T093000
DTEND;TZID=Europe/Paris:20140525T173000
CATEGORIES:35
LOCATION:Bretagne
WEBSITE:http://free.moon.free.fr
URL:http://free.moon.free.fr
CONTACT:09 83 39 16 64
ORGANIZER;CN="Free Moon":https://epanews.fr/profile/1ggai5tma2xpm
ATTACH;FMTTYPE="image/jpeg":http://storage.ning.com/topology/rest/1.0/
 file/get/1663107301?profile=original
ATTENDEE;ROLE=REQ-PARTICIPANT;PARTSTAT=ACCEPTED;RSVP=TRUE;CN="Free Moo
 n":https://epanews.fr/profile/1ggai5tma2xpm
END:VEVENT
END:VCALENDAR
