BEGIN:VCALENDAR
PRODID:NingEventWidget-v1
VERSION:2.0
METHOD:PUBLISH
BEGIN:VTIMEZONE
TZID:Europe/Paris
X-LIC-LOCATION:Europe/Paris
BEGIN:DAYLIGHT
TZOFFSETFROM:+0100
TZOFFSETTO:+0200
TZNAME:CEST
DTSTART:19700329T020000
RRULE:FREQ=YEARLY;BYMONTH=3;BYDAY=-1SU
END:DAYLIGHT
BEGIN:STANDARD
TZOFFSETFROM:+0200
TZOFFSETTO:+0100
TZNAME:CET
DTSTART:19701025T030000
RRULE:FREQ=YEARLY;BYMONTH=10;BYDAY=-1SU
END:STANDARD
END:VTIMEZONE
BEGIN:VEVENT
UID:2485226:Event:2281192
DTSTAMP:20260421T094809Z
SUMMARY:Présentation Méthode corp émotion parole® - 13006
DESCRIPTION:Présentation-Démonstration GRATUITE Marseille 13006\nMÉ
 THODE CORPS - ÉMOTION - PAROLE L'art d'entrer dans une relation d'éq
 uilibre psychique et émotionnel\n• Réveiller le CORPS • Libérer
  les ÉMOTIONS • Oser la PAROLE  La Méthode C.E.P.® est une techni
 que de «toucher-massage» originale qui privilégie une approche glob
 ale de l'individu et prend en compte ses dimensions physique, psychiqu
 e et émotionnelle.  Que ce soit dans le but d’une formation profess
 ionnelle certifiante (reconversion, complément d’activités : retra
 ité, salarié…) ou dans le cadre d’une formation personnelle, cet
 te Méthode constitue un véritable outil d’épanouissement personne
 l.\n Prochaines dates des présentations gratuites en 2015 : - 7 avril
  à 18h30 - 8 avril à 9h30 - 9 avril à 18h Nombre de places limité,
  réservez dès maintenant !  Informations et inscriptions  06 11 892
  034  Les 13 Portes - École de formation depuis 1993 - Épanouissemen
 t personnel - Formation personnelle - Formation professionnelle certif
 iante  www.les13portes.com  Cette présentation sera suivie d’un sta
 ge découverte accessible à tous le dimanche 12 avril //  Autres dat
 es : téléphonez-nous.\n\nPour plus d'information, aller sur https://
 epanews.fr/events/stage-m-thode-corp-motion-parole-13006
DTSTART;TZID=Europe/Paris:20150407T183000
DTEND;TZID=Europe/Paris:20150407T200000
CATEGORIES:13
LOCATION:Marseille 6ème
WEBSITE:http://www.les13portes.com
URL:http://www.les13portes.com
CONTACT:0611892034
ORGANIZER;CN=VERGER:https://epanews.fr/profile/VERGER
ATTACH;FMTTYPE="image/jpeg":
ATTENDEE;ROLE=REQ-PARTICIPANT;PARTSTAT=ACCEPTED;RSVP=TRUE;CN=VERGER:ht
 tps://epanews.fr/profile/VERGER
END:VEVENT
END:VCALENDAR
