BEGIN:VCALENDAR
PRODID:NingEventWidget-v1
VERSION:2.0
METHOD:PUBLISH
BEGIN:VTIMEZONE
TZID:Europe/Paris
X-LIC-LOCATION:Europe/Paris
BEGIN:DAYLIGHT
TZOFFSETFROM:+0100
TZOFFSETTO:+0200
TZNAME:CEST
DTSTART:19700329T020000
RRULE:FREQ=YEARLY;BYMONTH=3;BYDAY=-1SU
END:DAYLIGHT
BEGIN:STANDARD
TZOFFSETFROM:+0200
TZOFFSETTO:+0100
TZNAME:CET
DTSTART:19701025T030000
RRULE:FREQ=YEARLY;BYMONTH=10;BYDAY=-1SU
END:STANDARD
END:VTIMEZONE
BEGIN:VEVENT
UID:2485226:Event:2960041
DTSTAMP:20260420T125403Z
SUMMARY:stage mÃ©ditation et chamanisme
DESCRIPTION:RÃ©veillez vos potentiels, donnez du sens Ã  votre vie\nJe
  transmets une approche de la spiritualitÃ© qui se nourrit du chamanis
 me, de la mÃ©ditation, de lâ€™ennÃ©agramme, des sciences quantiques, l
 a philosophie orientale et occidentale.  Une approche loin de tout dog
 me, et qui est pragmatique et accessible Ã  tous.  â€¨Â Â Â  Je propos
 e dans une pratique inÃ©dite et innovante, Â Â Â  une approche complÃ¨
 te corps, coeur, esprit.\nPrÃ©sentation des pratiques :\nMÃ©ditation d
 'Expansion de Conscience,  Relaxation profonde, Pratiques de respirati
 on puissantes, inÃ©dites.\nRituels chamaniques, cercles de parole,\nEx
 ercices/jeux de thÃ©Ã¢tre : interactions entre les personnes et l'envi
 ronnement, perceptions, la voix, le regard, l'Ã©coute, l'attention, la
  coordination, l'enracinement, la prise de parole, la prÃ©sence.\nLa m
 Ã©ditation permet d'oeuvrer sur les 3 principaux centres d'Ã©nergie.\n
 1- rÃ©tablir Ã©quilibre et harmonie dans les 3 centres d'intelligence\
 n2- activer les potentiels Ã©nergÃ©tiques, psychologiques et spirituel
 s \"contenus\" dans ces centres\n3- faciliter l'Ã©volution personnelle
  : santÃ© et vitalitÃ© physique, fluiditÃ© des Ã©motions et sÃ©rÃ©nitÃ
 ©, clartÃ© d'esprit, intuition, crÃ©ativitÃ©\nLes journÃ©es alternent 
 entre mÃ©ditation, enseignements, rituels chamaniques, temps de rencon
 tre et d'Ã©changes\nObjectifs :\nDÃ©velopper notre intuition, notre cr
 Ã©ativitÃ©,  â€¨Calmer le mental pour avoir accÃ¨s Ã  dâ€™autres â€¨â€
 ¨informations subtiles\nSâ€™ouvrir Ã  lâ€™invisible afin de percevoir 
 au delÃ  des 5 sens, une autre rÃ©alitÃ© plus richeâ€¨ Apprendre Ã  mi
 eux se connaitre et comprendre son mode de fonctionnement\nDÃ©velopper
  lâ€™estime et la confiance en soi AmÃ©liorer ses relations avec les a
 utres\nMultiplier la puissance de son esprit Renforcer son bien-Ãªtre\
 nRetrouver le lien organique avec la Terreâ€¨  Se nourrir de lâ€™Ã©ner
 gie des arbres, de la nature\nParticiper Ã  des rituels puissants dans
  la nature le feu sacrÃ©, lâ€™eau purificatrice  Rencontrer votre anim
 al de pouvoir, vos guides\nOrganisation :\n- enseignement 400â‚¬\n- hÃ
 ©bergement pension complÃ¨te :de 228â‚¬ Ã  505â‚¬ selon l'hÃ©bergement
  choisi - possibilitÃ© venir en camping car : 20â‚¬/jour\nPrÃ©sentatio
 n ANNA BALLA :\nCoach de vie : Ã©volution personnelle, rÃ©alisez vos o
 bjectifs, rÃ©vÃ©lez vos talents\nDiplÃ´mÃ©e en 2005, UniversitÃ© Paris
  8 : Master : Coaching, Conseil en Ressources Humaines\nComÃ©dienne et
  metteuse en scÃ¨ne pendant 20 ans\nFormatrice en prise de parole en p
 ublic, voix et communication professionnelle, Lire Ã  voix haute\nAcco
 mpagne Ã  une expression personnelle et singuliÃ¨re\n\"Il n'y a que de
 ux faÃ§ons de vivre sa vie : l'une en faisant comme si rien n'Ã©tait u
 n miracle, l'autre en faisant comme si tout Ã©tait un miracle. \" Albe
 rt Einstein\n\n\nPour plus d'information, aller sur https://epanews.fr
 /events/stage-m-ditation-et-chamanisme
DTSTART;TZID=Europe/Paris:20180811T150000
DTEND;TZID=Europe/Paris:20180815T160000
CATEGORIES:84
LOCATION:Mas des Vertes Rives
WEBSITE:http://www.mas-des-vertes-rives.com/
URL:http://www.mas-des-vertes-rives.com/
CONTACT:06 72 14 37 29
ORGANIZER:ANNA BALLA
ATTACH;FMTTYPE="image/jpeg":
ATTENDEE;ROLE=REQ-PARTICIPANT;PARTSTAT=ACCEPTED;RSVP=TRUE;CN=ANNA:http
 s://epanews.fr/profile/ANNA502
END:VEVENT
END:VCALENDAR
