BEGIN:VCALENDAR
PRODID:NingEventWidget-v1
VERSION:2.0
METHOD:PUBLISH
BEGIN:VTIMEZONE
TZID:Europe/Paris
X-LIC-LOCATION:Europe/Paris
BEGIN:DAYLIGHT
TZOFFSETFROM:+0100
TZOFFSETTO:+0200
TZNAME:CEST
DTSTART:19700329T020000
RRULE:FREQ=YEARLY;BYMONTH=3;BYDAY=-1SU
END:DAYLIGHT
BEGIN:STANDARD
TZOFFSETFROM:+0200
TZOFFSETTO:+0100
TZNAME:CET
DTSTART:19701025T030000
RRULE:FREQ=YEARLY;BYMONTH=10;BYDAY=-1SU
END:STANDARD
END:VTIMEZONE
BEGIN:VEVENT
UID:2485226:Event:212619
DTSTAMP:20260423T222948Z
SUMMARY:Stage  les passeurs
DESCRIPTION:Une passeuse d'âme viendra vous parler de divers thèmes 
 tels que l'avortement, le suicide, le chemin de ces âmes et l'aide qu
 e nous sommes en mesure d'apporter. Les animaux qui ont partagé notre
  vie. Les lieux habités par d'anciens locataires et qui perturbent la
  vie actuelle des résidents. Les schizophrènes, les éggrégores, et
 c...etc.... stage sur un week-end à Lorgues les 21 et 22 mai 150€ l
 es 2 jours\n\nPour plus d'information, aller sur https://epanews.fr/ev
 ents/stage-les-passeurs
DTSTART;TZID=Europe/Paris:20110521T000000
DTEND;TZID=Europe/Paris:20110522T235900
CATEGORIES:83
LOCATION:Lorgues
WEBSITE:
URL:
CONTACT:0629342267
ORGANIZER;CN="Brigitte  énergie harmonieuse":https://epanews.fr/profi
 le/Brigitteenergieharmonieuse
ATTACH;FMTTYPE="image/jpeg":
ATTENDEE;ROLE=REQ-PARTICIPANT;PARTSTAT=ACCEPTED;RSVP=TRUE;CN="Le Solei
 l":https://epanews.fr/profile/LeSoleil
ATTENDEE;ROLE=REQ-PARTICIPANT;PARTSTAT=ACCEPTED;RSVP=TRUE;CN=Valérie:
 https://epanews.fr/profile/Valerie638
ATTENDEE;ROLE=REQ-PARTICIPANT;PARTSTAT=ACCEPTED;RSVP=TRUE;CN="Eric Beh
 oteguy Hypno-Magnétisme":https://epanews.fr/profile/EricBehoteguy
ATTENDEE;ROLE=REQ-PARTICIPANT;PARTSTAT=ACCEPTED;RSVP=TRUE;CN="Brigitte
   énergie harmonieuse":https://epanews.fr/profile/Brigitteenergieharm
 onieuse
END:VEVENT
END:VCALENDAR
