BEGIN:VCALENDAR
PRODID:NingEventWidget-v1
VERSION:2.0
METHOD:PUBLISH
BEGIN:VTIMEZONE
TZID:Europe/Paris
X-LIC-LOCATION:Europe/Paris
BEGIN:DAYLIGHT
TZOFFSETFROM:+0100
TZOFFSETTO:+0200
TZNAME:CEST
DTSTART:19700329T020000
RRULE:FREQ=YEARLY;BYMONTH=3;BYDAY=-1SU
END:DAYLIGHT
BEGIN:STANDARD
TZOFFSETFROM:+0200
TZOFFSETTO:+0100
TZNAME:CET
DTSTART:19701025T030000
RRULE:FREQ=YEARLY;BYMONTH=10;BYDAY=-1SU
END:STANDARD
END:VTIMEZONE
BEGIN:VEVENT
UID:2485226:Event:2879728
DTSTAMP:20260421T221915Z
SUMMARY:Modification demandÃ©e
DESCRIPTION:Vous Ãªtes un professionnel : thÃ©rapeute, coach, conseill
 er en image, dÃ©corateur, acteur du dÃ©veloppement personnel, accompag
 nant, aidant...et vous cherchez Ã  intÃ©grer un outil de soin lumineux
  et fiable Ã  votre pratique...\n Vous Ãªtes un particulier et vous ch
 erchez un mieux Ãªtre, une meilleure comprÃ©hension de vos expÃ©rience
 s de vie, une meilleure connaissance de vous-mÃªmes...  Ce stage est f
 ait pour vous !   Objectif du stage : Vous familiariser Ã  la pratique
  d'un outil de soin et d'accompagnement novateur et efficace.\nprogram
 me et fiche d'inscription ci-dessous\nDOSSIER%20D%27INSCRIPTION.docx\n
 PROGRAMME%20FORMATION%2011-12%20NOV%202017.docx\n\nÂ Â Â Â Â Â Â Â \nÂ
  \n\nÂ Â Â Â Â Â Â Â Â Â Â Â Â Â Â Â Â Â Â Â Â Â Â Â Â Â Â Â Â Â Â Â Â
  Â Â Â Â \n\n\nPour plus d'information, aller sur https://epanews.fr/e
 vents/stage-les-couleurs-outil-de-soin-et-d-accompagnement
DTSTART;TZID=Europe/Paris:20171111T093000
DTEND;TZID=Europe/Paris:20171112T173000
CATEGORIES:83
LOCATION:ferme de beaugensiers
WEBSITE:
URL:
CONTACT:06.21.72.15.56
ORGANIZER:
ATTACH;FMTTYPE="image/jpeg":http://storage.ning.com/topology/rest/1.0/
 file/get/1663694965?profile=original
ATTENDEE;ROLE=REQ-PARTICIPANT;PARTSTAT=ACCEPTED;RSVP=TRUE;CN=NATHALIE:
 https://epanews.fr/profile/NATHALIE65
END:VEVENT
END:VCALENDAR
