BEGIN:VCALENDAR
PRODID:NingEventWidget-v1
VERSION:2.0
METHOD:PUBLISH
BEGIN:VTIMEZONE
TZID:Europe/Paris
X-LIC-LOCATION:Europe/Paris
BEGIN:DAYLIGHT
TZOFFSETFROM:+0100
TZOFFSETTO:+0200
TZNAME:CEST
DTSTART:19700329T020000
RRULE:FREQ=YEARLY;BYMONTH=3;BYDAY=-1SU
END:DAYLIGHT
BEGIN:STANDARD
TZOFFSETFROM:+0200
TZOFFSETTO:+0100
TZNAME:CET
DTSTART:19701025T030000
RRULE:FREQ=YEARLY;BYMONTH=10;BYDAY=-1SU
END:STANDARD
END:VTIMEZONE
BEGIN:VEVENT
UID:2485226:Event:310022
DTSTAMP:20260423T194349Z
SUMMARY:Stage l'énergie et la sexualité
DESCRIPTION:Les quatre saisons de l'amour ou chercher en soi-même la 
 racine de son plaisir et le vivre.\n \n \nSENSUALITE ET SEXUALITE\nM
 ARCHE MEDITATIVE\nMAGNETISME\nMASSAGE\nDEGUSTATION DE VINS ET DE PLATS
  EXOTIQUES\n \n\nPour plus d'information, aller sur https://epanews.f
 r/events/stage-lenergie-et-la-sexualite
DTSTART;TZID=Europe/Paris:20110520T190000
DTEND;TZID=Europe/Paris:20110522T170000
CATEGORIES:58
LOCATION:Nevers
WEBSITE:
URL:
CONTACT:03 86 58 29 98
ORGANIZER;CN="Marie-France O'LEARY":https://epanews.fr/profile/MarieFr
 anceOLEARY
ATTACH;FMTTYPE="image/jpeg":http://storage.ning.com/topology/rest/1.0/
 file/get/1662422136?profile=original
ATTENDEE;ROLE=REQ-PARTICIPANT;PARTSTAT=ACCEPTED;RSVP=TRUE;CN="Marie-Fr
 ance O'LEARY":https://epanews.fr/profile/MarieFranceOLEARY
END:VEVENT
END:VCALENDAR
