BEGIN:VCALENDAR
PRODID:NingEventWidget-v1
VERSION:2.0
METHOD:PUBLISH
BEGIN:VTIMEZONE
TZID:Europe/Paris
X-LIC-LOCATION:Europe/Paris
BEGIN:DAYLIGHT
TZOFFSETFROM:+0100
TZOFFSETTO:+0200
TZNAME:CEST
DTSTART:19700329T020000
RRULE:FREQ=YEARLY;BYMONTH=3;BYDAY=-1SU
END:DAYLIGHT
BEGIN:STANDARD
TZOFFSETFROM:+0200
TZOFFSETTO:+0100
TZNAME:CET
DTSTART:19701025T030000
RRULE:FREQ=YEARLY;BYMONTH=10;BYDAY=-1SU
END:STANDARD
END:VTIMEZONE
BEGIN:VEVENT
UID:2485226:Event:206487
DTSTAMP:20260423T181309Z
SUMMARY:Stage  L'Eclaircie
DESCRIPTION:L'éclaircie. Ecologie Relationnelle\nAu cœur de notre vi
 e : la Relation ... à l'autre, .... à soi. Clarifier des situations 
 relationnelles pour améliorer la qualité de communication avec l'aut
 re, avec soi. Je vous propose un temps de développement personnel aut
 our du  \" bon sens\" : Le sens de nos actes, le sens de nos mots, le
  sens de notre vie... Un temps pour vous, ludique et constructif dans 
 un cadre naturel et prestigieux.\n \nQUAND : Le 20 mars 2011\nOU : 
 à Sollies-Ville de 9h à 17h30 COMBIEN : 50€ la journée\nA QUELLE
  HEURE : de 9h à 17h30 QUI : Groupe de 10 personnes maximum\n \nIn
 scription 0609361790\neclore01@gmail.com\n\nPour plus d'information, a
 ller sur https://epanews.fr/events/stage-leclaircie
DTSTART;TZID=Europe/Paris:20110320T000000
DTEND;TZID=Europe/Paris:20110320T235900
CATEGORIES:tous
LOCATION:TOULON
WEBSITE:
URL:
CONTACT:0609361790
ORGANIZER;CN="Anabelle Sanchez Asso. ECLORE":https://epanews.fr/profil
 e/AnabelleSanchezAssoECLORE
ATTACH;FMTTYPE="image/jpeg":http://storage.ning.com/topology/rest/1.0/
 file/get/1662387742?profile=original
ATTENDEE;ROLE=REQ-PARTICIPANT;PARTSTAT=ACCEPTED;RSVP=TRUE;CN="Anabelle
  Sanchez Asso. ECLORE":https://epanews.fr/profile/AnabelleSanchezAssoE
 CLORE
END:VEVENT
END:VCALENDAR
