BEGIN:VCALENDAR
PRODID:NingEventWidget-v1
VERSION:2.0
METHOD:PUBLISH
BEGIN:VTIMEZONE
TZID:Europe/Paris
X-LIC-LOCATION:Europe/Paris
BEGIN:DAYLIGHT
TZOFFSETFROM:+0100
TZOFFSETTO:+0200
TZNAME:CEST
DTSTART:19700329T020000
RRULE:FREQ=YEARLY;BYMONTH=3;BYDAY=-1SU
END:DAYLIGHT
BEGIN:STANDARD
TZOFFSETFROM:+0200
TZOFFSETTO:+0100
TZNAME:CET
DTSTART:19701025T030000
RRULE:FREQ=YEARLY;BYMONTH=10;BYDAY=-1SU
END:STANDARD
END:VTIMEZONE
BEGIN:VEVENT
UID:2485226:Event:640809
DTSTAMP:20260422T061400Z
SUMMARY:stage \"Le souffle et extase\" animé par Ma Premo-17,18,19 fe
 vrier 2012
DESCRIPTION:Rentre en relation dans la presence à soi et à l'autre.A
 u centre,l'extase de la rencontre:une invitation à marcher en toute c
 onscience sur un chemin de pardon et de réconciliation,puissance bien
 faisante du coeur rayonnant.Un RV nourrissant et guérissant entre hom
 mes et femmes prêts à explorer un chemin de beauté.Utilisation du s
 ouffle,méditations, chants et danses sacrées,nature, rituels et tamb
 ours.\nHumour et amour seront au rendez-vous!\n\nPour plus d'informati
 on, aller sur https://epanews.fr/events/stage-le-souffle-et-extase-ani
 m-par-ma-premo-17-18-19-fevrier
DTSTART;TZID=Europe/Paris:20120217T190000
DTEND;TZID=Europe/Paris:20120219T160000
CATEGORIES:tous
LOCATION:CASSIS
WEBSITE:http://www.associationlesnouveauxmondes.com
URL:http://www.associationlesnouveauxmondes.com
CONTACT:0981763300 ou 0614650448
ORGANIZER:Francine Moliné-Planas(Horites de passages) et Isabelle Duf
 faud(association des nouveaux mondes
ATTACH;FMTTYPE="image/jpeg":
ATTENDEE;ROLE=REQ-PARTICIPANT;PARTSTAT=ACCEPTED;RSVP=TRUE;CN="francine
  moliné-bernier":https://epanews.fr/profile/francinemolinebernier
END:VEVENT
END:VCALENDAR
