BEGIN:VCALENDAR
PRODID:NingEventWidget-v1
VERSION:2.0
METHOD:PUBLISH
BEGIN:VTIMEZONE
TZID:Europe/Paris
X-LIC-LOCATION:Europe/Paris
BEGIN:DAYLIGHT
TZOFFSETFROM:+0100
TZOFFSETTO:+0200
TZNAME:CEST
DTSTART:19700329T020000
RRULE:FREQ=YEARLY;BYMONTH=3;BYDAY=-1SU
END:DAYLIGHT
BEGIN:STANDARD
TZOFFSETFROM:+0200
TZOFFSETTO:+0100
TZNAME:CET
DTSTART:19701025T030000
RRULE:FREQ=YEARLY;BYMONTH=10;BYDAY=-1SU
END:STANDARD
END:VTIMEZONE
BEGIN:VEVENT
UID:2485226:Event:198722
DTSTAMP:20260420T234447Z
SUMMARY:Stage \"Le Cristal et la SantÃ©\" niveau 1
DESCRIPTION:STAGE 2 jours Samedi 5+Dimanche 6 fÃ©vrier 2011 Ã  VENCE (
 06)\nÂ« Le Cristal et la SantÃ©Â / Niveau 1 Â» (Niveau 2 proposÃ© les 
 12 & 13 fÃ©vrier 2011 Ã  Marseille. Niveau 2 non obligatoire pour util
 iser les cristaux)\nÂ \nFormation menant Ã  lâ€™utilisation saine et e
 n toute sÃ©curitÃ© des cristaux dans un cadre thÃ©rapeutique.\n\nPrÃ©s
 entation de la philosophie traditionnelle qui Ã©claire les principes f
 ondamentaux prÃ©sidant Ã  lâ€™utilisation des cristaux en relation dâ€
 ™aide.\nEnseignement des pratiques traditionnelles de purification et 
 dâ€™harmonisation pour ressentir les Ã©nergies Ã©mises par les cristau
 x.\nTransmission de la thÃ©orie sur les propriÃ©tÃ©s des cristaux et l
 es soins quâ€™ils requiÃ¨rent.\nExercices de mÃ©ditation et mouvements
  sacrÃ©s permettant de clarifier le corps et dâ€™augmenter lâ€™Ã©nergi
 e vitale\n\nÂ \n200 â‚¬ / Sur rÃ©servation* (rÃ©servation de 50 â‚¬). 
 En cas de rÃ©servation des Niveaux 1 et 2 simultanÃ©ment, lâ€™ensemble
  passe de 400 â‚¬ Ã  350 â‚¬, leÂ montant de la rÃ©servation Ã©tant al
 ors de 87.50 â‚¬ pour les 2 stages).\nÂ \nDe 9h30/12h30 & 14h 17h45 au
  Centre Mandala - 202 Chemin du Pioulier â€“ 06140 Vence - Parking gra
 tuit\nÂ \nPossibilitÃ© dâ€™hÃ©bergement & Restauration au Centre Manda
 la (contacter directement le lieu) - TÃ©l +33 (0)4 93 59 83 88 www.lec
 entremandala.com (Chambres de 2 ou de 3 : 25 â‚¬ la nuit â€“ Petit dÃ©
 jeunerÂ : 5 â‚¬ - DÃ©jeuner et/ou dÃ®nerÂ : 15 â‚¬) - ou chambres dâ€™
 hÃ´tes Ã  proximitÃ©.\nÂ \nPlus dâ€™infos : Lou GARLONE 06 10 07 45 74
  info@terrederessources.com\n\nPour plus d'information, aller sur http
 s://epanews.fr/events/stage-le-cristal-et-la-sante
DTSTART;TZID=Europe/Paris:20110204T093000
DTEND;TZID=Europe/Paris:20110205T174500
CATEGORIES:06
LOCATION:VENCE
WEBSITE:
URL:
CONTACT:0610074574
ORGANIZER;CN="GARLONE Lou":https://epanews.fr/profile/GARLONELOU
ATTACH;FMTTYPE="image/jpeg":http://storage.ning.com/topology/rest/1.0/
 file/get/1662383320?profile=original
ATTENDEE;ROLE=REQ-PARTICIPANT;PARTSTAT=ACCEPTED;RSVP=TRUE;CN="GARLONE 
 Lou":https://epanews.fr/profile/GARLONELOU
END:VEVENT
END:VCALENDAR
