BEGIN:VCALENDAR
PRODID:NingEventWidget-v1
VERSION:2.0
METHOD:PUBLISH
BEGIN:VTIMEZONE
TZID:Europe/Paris
X-LIC-LOCATION:Europe/Paris
BEGIN:DAYLIGHT
TZOFFSETFROM:+0100
TZOFFSETTO:+0200
TZNAME:CEST
DTSTART:19700329T020000
RRULE:FREQ=YEARLY;BYMONTH=3;BYDAY=-1SU
END:DAYLIGHT
BEGIN:STANDARD
TZOFFSETFROM:+0200
TZOFFSETTO:+0100
TZNAME:CET
DTSTART:19701025T030000
RRULE:FREQ=YEARLY;BYMONTH=10;BYDAY=-1SU
END:STANDARD
END:VTIMEZONE
BEGIN:VEVENT
UID:2485226:Event:1650286
DTSTAMP:20260423T215107Z
SUMMARY:Stage: La dÃ©couverte de Soi
DESCRIPTION:\nLâ€™Association EnvolÃ©e Artistique Â propose un stage\n
 DANSER\nLA DÃ‰COUVERTE DE SOI\nAnimÃ© par Sonia HARZI\n\nProfesseurÂ  
 de danse et chorÃ©graphe\nÂ â€¦ Cet atelier est un moment privilÃ©giÃ©
  de bien Ãªtre permettant une meilleure connaissance de soi au travers
  des danses dâ€™orient, du yoga, mÃ©thode Pilate et Alexander. Cette p
 erception universelle de la danse fait un mariage harmonieux aussi bie
 n dans les mouvements que dans la souplesseâ€¦\nÂ ThÃ¨mes abordÃ©sÂ :\
 nISOLATION DU CORPS (Ancrage par le biais du travail des bras et du bu
 ste, â€¦)Â Â  Â \nLIBERATION DU BASSIN Â (Gagner en confiance et laiss
 er libre sa crÃ©ativitÃ©,â€¦)\nÂ Pour se libÃ©rer de ses tensions, apa
 iser son mental,â€¦retrouver sa douceur et sa fluiditÃ© fÃ©minine dans
  un espace convivialâ€¦\nÂ Une collation vous sera offerte aprÃ¨s lâ€™
 atelier\nDimanche 24 novembre 2013 14h30Â  Ã  17h30 â€“ 35 â‚¬\nÂ LIEU
 Â : ESPACE LOFT ZEN â€“ 12 Rue Gigodot â€“ 69004 LYON\nÂ Contact et RÃ
 ©servationÂ : sonia.harzi@bbox.fr Â 06.62.54.20.43\nFacebookÂ :https:/
 /www.facebook.com/envoleeartistique\nÂ Ce stage sâ€™adresse Ã  toutes 
 les femmes aucune pratique de danse est nÃ©cessaire\nLâ€™inscription e
 st effective dÃ¨s rÃ©ception du rÃ¨glement et non remboursable\n\nPour
  plus d'information, aller sur https://epanews.fr/events/stage-la-d-co
 uverte-de-soi
DTSTART;TZID=Europe/Paris:20131124T143000
DTEND;TZID=Europe/Paris:20131124T173000
CATEGORIES:69
LOCATION:Loft-Zen Lyon
WEBSITE:http://goo.gl/maps/F7zXV
URL:http://goo.gl/maps/F7zXV
CONTACT:06.62.54.20.43
ORGANIZER:Sonia HARZI
ATTACH;FMTTYPE="image/jpeg":http://storage.ning.com/topology/rest/1.0/
 file/get/1662979097?profile=original
ATTENDEE;ROLE=REQ-PARTICIPANT;PARTSTAT=ACCEPTED;RSVP=TRUE;CN=gem-masse
 r:https://epanews.fr/profile/gem_masser
END:VEVENT
END:VCALENDAR
