BEGIN:VCALENDAR
PRODID:NingEventWidget-v1
VERSION:2.0
METHOD:PUBLISH
BEGIN:VTIMEZONE
TZID:Europe/Paris
X-LIC-LOCATION:Europe/Paris
BEGIN:DAYLIGHT
TZOFFSETFROM:+0100
TZOFFSETTO:+0200
TZNAME:CEST
DTSTART:19700329T020000
RRULE:FREQ=YEARLY;BYMONTH=3;BYDAY=-1SU
END:DAYLIGHT
BEGIN:STANDARD
TZOFFSETFROM:+0200
TZOFFSETTO:+0100
TZNAME:CET
DTSTART:19701025T030000
RRULE:FREQ=YEARLY;BYMONTH=10;BYDAY=-1SU
END:STANDARD
END:VTIMEZONE
BEGIN:VEVENT
UID:2485226:Event:2379914
DTSTAMP:20260423T111038Z
SUMMARY:Stage \"La Bioénergie\"
DESCRIPTION:STAGE  « La BIOENERGIE  »\n\nCe stage de 2 jours vous
  permet de vous familiariser avec la bioénergie, un outil performant 
 et puissant pour mesurer tous les phénomènes, physiques et subtils. 
 L’objectif de ce stage est de vous rendre davantage conscient de vot
 re environnement, tant chez vous qu’au travail et de vous donner les
  moyens de rechercher et de mesurer l’impact d’un produit ou d’u
 ne nuisance sur vous-même.\n\nTarif  :  350€ (Possibilité de pay
 er en plusieurs fois)\n\nHôtel Le Nautic – 20 boulevard de la plage
  - ARCACHON\n\nRéservations obligatoires auprès de la librairie – 
 Places limitées\n.Stéphane CARDINAUX est diplômé de l’école Pol
 ytechnique de Lausanne. Il est architecte, géobiologue et bioénergé
 ticien. Il est l’auteur de plusieurs ouvrages dont \nNaturopathe de
  formation, Catherine Anae MARTIN s’est spécialisée sur le fonctio
 nnement énergétique humain et ses interactions avec les réalités s
 ubtiles.\n\nStéphane Cardinaux est l’auteur de plusieurs ouvrages d
 ont « Science et conscience de l’invisible » en partenariat avec
  Catherine Anae Martin.\n\n\n\nPour plus d'information, aller sur http
 s://epanews.fr/events/stage-la-bio-nergie
DTSTART;TZID=Europe/Paris:20151017T090000
DTEND;TZID=Europe/Paris:20151018T170000
CATEGORIES:47, 24, 33, 40, 64
LOCATION:Hôtel Le Nautic
WEBSITE:http://www.librairie-pegase.fr
URL:http://www.librairie-pegase.fr
CONTACT:05 56 51 38 12
ORGANIZER;CN="Librairie PEGASE":https://epanews.fr/profile/LibrairiePE
 GASE
ATTACH;FMTTYPE="image/jpeg":http://storage.ning.com/topology/rest/1.0/
 file/get/1663429882?profile=original
ATTENDEE;ROLE=REQ-PARTICIPANT;PARTSTAT=ACCEPTED;RSVP=TRUE;CN="Librairi
 e PEGASE":https://epanews.fr/profile/LibrairiePEGASE
END:VEVENT
END:VCALENDAR
