BEGIN:VCALENDAR
PRODID:NingEventWidget-v1
VERSION:2.0
METHOD:PUBLISH
BEGIN:VTIMEZONE
TZID:Europe/Paris
X-LIC-LOCATION:Europe/Paris
BEGIN:DAYLIGHT
TZOFFSETFROM:+0100
TZOFFSETTO:+0200
TZNAME:CEST
DTSTART:19700329T020000
RRULE:FREQ=YEARLY;BYMONTH=3;BYDAY=-1SU
END:DAYLIGHT
BEGIN:STANDARD
TZOFFSETFROM:+0200
TZOFFSETTO:+0100
TZNAME:CET
DTSTART:19701025T030000
RRULE:FREQ=YEARLY;BYMONTH=10;BYDAY=-1SU
END:STANDARD
END:VTIMEZONE
BEGIN:VEVENT
UID:2485226:Event:600014
DTSTAMP:20260423T170516Z
SUMMARY:Stage L'art-gens
DESCRIPTION:L’argent est une énergie qui n’a d’autre pouvoir qu
 e celui que nous lui donnons. Ce que nous vivons individuellement avec
  l’argent se retrouve au niveau planétaire : des rapports de force 
 et de dépendance. Réinventer des échanges “sereins, joyeux et amo
 ureux” basés sur nos besoins réels et notre goût de l’aventure 
 de la vie…\n\nPour plus d'information, aller sur https://epanews.fr/
 events/stage-l-art-gens
DTSTART;TZID=Europe/Paris:20120113T190000
DTEND;TZID=Europe/Paris:20120115T170000
CATEGORIES:58
LOCATION:Nevers
WEBSITE:
URL:
CONTACT:03 86 58 29 98
ORGANIZER;CN="Marie-France O'LEARY":https://epanews.fr/profile/MarieFr
 anceOLEARY
ATTACH;FMTTYPE="image/jpeg":http://storage.ning.com/topology/rest/1.0/
 file/get/1662502274?profile=original
ATTENDEE;ROLE=REQ-PARTICIPANT;PARTSTAT=ACCEPTED;RSVP=TRUE;CN="Marie-Fr
 ance O'LEARY":https://epanews.fr/profile/MarieFranceOLEARY
END:VEVENT
END:VCALENDAR
