BEGIN:VCALENDAR
PRODID:NingEventWidget-v1
VERSION:2.0
METHOD:PUBLISH
BEGIN:VTIMEZONE
TZID:Europe/Paris
X-LIC-LOCATION:Europe/Paris
BEGIN:DAYLIGHT
TZOFFSETFROM:+0100
TZOFFSETTO:+0200
TZNAME:CEST
DTSTART:19700329T020000
RRULE:FREQ=YEARLY;BYMONTH=3;BYDAY=-1SU
END:DAYLIGHT
BEGIN:STANDARD
TZOFFSETFROM:+0200
TZOFFSETTO:+0100
TZNAME:CET
DTSTART:19701025T030000
RRULE:FREQ=YEARLY;BYMONTH=10;BYDAY=-1SU
END:STANDARD
END:VTIMEZONE
BEGIN:VEVENT
UID:2485226:Event:2934097
DTSTAMP:20260424T225812Z
SUMMARY:Stage l'Art de marcher avec Danilo Zanin Ã  MontsÃ©gur ( AriÃ¨
 ge )
DESCRIPTION:Stage de formation douceÂ Ã  lâ€™Art de marcher\n\n\n\nMar
 cheurs dÃ©butants ou confirmÃ©s, dÃ©couvrez durant ce stage lâ€™Art de
  marcher et toutes les clÃ©s pour rÃ©ussir n'importe quelsÂ trekkings 
 ou randonnÃ©es tout en vivant dans la Pleine PrÃ©sence !\nDates : 10 a
 u 13 mai 2018\nPossibilitÃ© d'arriver la veilleÂ \nPrix : 470 euros/pe
 rsonne Niveau : assez bons marcheurs et dÃ©butants motivÃ©s\nGroupe de
  7 Ã  15 personnes Pension complÃ¨te au gite d'Ã©tape de MontsÃ©gur (P
 ossibilitÃ© d'arriver la veille et de rester jusqu'au 14 mai 2018)\nQu
 atre journÃ©es de randonnÃ©es en Ã©toile dans la rÃ©gion ariÃ©geoisede
  MontsÃ©gur, haut lieu de lâ€™histoire des Cathares, pour une vraie fo
 rmation Ã  lâ€™Art de marcher et envisager toutes les randonnÃ©es de s
 es rÃªves ! SoirÃ©e histoire Â«CatharesÂ» animÃ©e par mon ami et hÃ´te
  Jean-Luc Massera (il saura vous passionner lors dâ€™une veillÃ©e cons
 acrÃ©e aux plus cÃ©lÃ¨bres habitants de cette rÃ©gion, les Bonhommes, 
 appelÃ©s par la suite Cathares...).\nNourriture et bar biologiques pro
 posÃ©s pour un meilleur art de vivre au prÃ©sent et goÃ»ter Ã  la Â«mÃ
 ¢che conscienteÂ» !\nProgramme du stage :\nMarche consciente et marche
  afghane. Conseils sur le matÃ©riel (chaussures, sac Ã  dos, poche Ã  
 eau, bÃ¢tons etc.) Relaxation dynamique spÃ©ciale sport : augmentation
  de lâ€™Ã©nergie physique. Divers rythmes de la marche afghane et autr
 es souffles. Sâ€™Ã©conomiser en marchant dâ€™une certaine faÃ§on sur l
 a terre. Mouvement spÃ©cifique pour monter toutes les pentes plus faci
 lement. Apprentissage dâ€™une faÃ§on trÃ¨s efficace de marcher avec de
 s bÃ¢tons. Enracinement dans le Hara pour enfin descendre sereinement 
 et en toute sÃ©curitÃ© toutes les pentes, mÃªme les plus raides, sans 
 peut et sans douleurs dans les genoux.\n\n\n\n\n\n\n\n\n\n\n\nPour plu
 s d'information, aller sur https://epanews.fr/events/stage-l-art-de-ma
 rcher-avec-danilo-zanin-monts-gur-ari-ge
DTSTART;TZID=Europe/Paris:20180510T204500
DTEND;TZID=Europe/Paris:20180513T160000
CATEGORIES:09
LOCATION:MontsÃ©gur
WEBSITE:
URL:
CONTACT:0662379588
ORGANIZER;CN="daniel zanin":https://epanews.fr/profile/danielzanin
ATTACH;FMTTYPE="image/jpeg":http://storage.ning.com/topology/rest/1.0/
 file/get/1663722300?profile=original
ATTENDEE;ROLE=REQ-PARTICIPANT;PARTSTAT=ACCEPTED;RSVP=TRUE;CN="daniel z
 anin":https://epanews.fr/profile/danielzanin
END:VEVENT
END:VCALENDAR
