BEGIN:VCALENDAR
PRODID:NingEventWidget-v1
VERSION:2.0
METHOD:PUBLISH
BEGIN:VTIMEZONE
TZID:Europe/Paris
X-LIC-LOCATION:Europe/Paris
BEGIN:DAYLIGHT
TZOFFSETFROM:+0100
TZOFFSETTO:+0200
TZNAME:CEST
DTSTART:19700329T020000
RRULE:FREQ=YEARLY;BYMONTH=3;BYDAY=-1SU
END:DAYLIGHT
BEGIN:STANDARD
TZOFFSETFROM:+0200
TZOFFSETTO:+0100
TZNAME:CET
DTSTART:19701025T030000
RRULE:FREQ=YEARLY;BYMONTH=10;BYDAY=-1SU
END:STANDARD
END:VTIMEZONE
BEGIN:VEVENT
UID:2485226:Event:2673478
DTSTAMP:20260421T171008Z
SUMMARY:Stage Jeunes \"Coaching D'orientation
DESCRIPTION:Stage pour les jeunes de 14 Ã  25 ans\n2 jours pour trouve
 r sa voir, choisir son avenir\nRÃ©aliser son bilan de potentiels\navec
  la MÃ©thode POTENTIALISÂ®\n\nLes objectifsÂ :\n\n\nÂ DÃ©couvrir ses p
 otentiels forts, sesÂ  modes dâ€™apprentissage, Â pour rÃ©ussir dans l
 es Ã©tudes.\nÂ Trouver les domaines dâ€™activitÃ©s, les mÃ©tiers, Â oÃ
 ¹ lâ€™on peut exceller le plus, en lien avec ses potentiels.\nÂ Compre
 ndre sesÂ  motivations,Â  etÂ  tout ce qui Â procure du plaisir dans l
 e travail.\nÂ Faire ou valider le bon choix dâ€™Ã©tudes.\n\nStage anim
 Ã© par Marianne Jalil, coach formatrice diplÃ´mÃ©e d'Ã©tat, accompagne
  les jeunes et les adultesÂ  depuis 12 ans.\n\nRenseignements et inscr
 iptions au 06 86 95 25 62\nwww.mariane-jalil.com\n\nPour plus d'inform
 ation, aller sur https://epanews.fr/events/stage-jeunes-coaching-d-ori
 entation
DTSTART;TZID=Europe/Paris:20160825T000000
DTEND;TZID=Europe/Paris:20160826T235900
CATEGORIES:13600
LOCATION:La Ciotat
WEBSITE:
URL:
CONTACT:06 86 95 25 62
ORGANIZER;CN=Marianne:https://epanews.fr/profile/MarianneJalil
ATTACH;FMTTYPE="image/jpeg":http://storage.ning.com/topology/rest/1.0/
 file/get/1663581702?profile=original
ATTENDEE;ROLE=REQ-PARTICIPANT;PARTSTAT=ACCEPTED;RSVP=TRUE;CN=Marianne:
 https://epanews.fr/profile/MarianneJalil
END:VEVENT
END:VCALENDAR
