BEGIN:VCALENDAR
PRODID:NingEventWidget-v1
VERSION:2.0
METHOD:PUBLISH
BEGIN:VTIMEZONE
TZID:Europe/Paris
X-LIC-LOCATION:Europe/Paris
BEGIN:DAYLIGHT
TZOFFSETFROM:+0100
TZOFFSETTO:+0200
TZNAME:CEST
DTSTART:19700329T020000
RRULE:FREQ=YEARLY;BYMONTH=3;BYDAY=-1SU
END:DAYLIGHT
BEGIN:STANDARD
TZOFFSETFROM:+0200
TZOFFSETTO:+0100
TZNAME:CET
DTSTART:19701025T030000
RRULE:FREQ=YEARLY;BYMONTH=10;BYDAY=-1SU
END:STANDARD
END:VTIMEZONE
BEGIN:VEVENT
UID:2485226:Event:1122672
DTSTAMP:20260423T192414Z
SUMMARY:Stage découverte Jeu de peindre - méthode Arno Stern
DESCRIPTION:Dans un juste équilibre entre la liberté et la rigueur, 
 le travail personnel et le partage, le jeu de peindre permet de libér
 er la trace et de développer la créativité, le lâcher-prise, la co
 nfiance en soi, l'autonomie, le respect et l'enthousiasme...\nL'atelie
 r est ouvert à tous, petits et grands enfants.\nParticipation : adult
 es : 40 € enfants : 30 €\n\nPour plus d'information, aller sur htt
 ps://epanews.fr/events/stage-jeu-de-peindre-m-thode-arno-stern-1
DTSTART;TZID=Europe/Paris:20130305T103000
DTEND;TZID=Europe/Paris:20130308T000000
CATEGORIES:tous
LOCATION:Prades
WEBSITE:http://giroulisjeudepeindre.wordpress.com
URL:http://giroulisjeudepeindre.wordpress.com
CONTACT:0652508715
ORGANIZER:Giroulis
ATTACH;FMTTYPE="image/jpeg":http://storage.ning.com/topology/rest/1.0/
 file/get/1662736602?profile=original
ATTENDEE;ROLE=REQ-PARTICIPANT;PARTSTAT=ACCEPTED;RSVP=TRUE;CN=nilima:ht
 tps://epanews.fr/profile/nilima
END:VEVENT
END:VCALENDAR
