BEGIN:VCALENDAR
PRODID:NingEventWidget-v1
VERSION:2.0
METHOD:PUBLISH
BEGIN:VTIMEZONE
TZID:Europe/Paris
X-LIC-LOCATION:Europe/Paris
BEGIN:DAYLIGHT
TZOFFSETFROM:+0100
TZOFFSETTO:+0200
TZNAME:CEST
DTSTART:19700329T020000
RRULE:FREQ=YEARLY;BYMONTH=3;BYDAY=-1SU
END:DAYLIGHT
BEGIN:STANDARD
TZOFFSETFROM:+0200
TZOFFSETTO:+0100
TZNAME:CET
DTSTART:19701025T030000
RRULE:FREQ=YEARLY;BYMONTH=10;BYDAY=-1SU
END:STANDARD
END:VTIMEZONE
BEGIN:VEVENT
UID:2485226:Event:980931
DTSTAMP:20260424T144644Z
SUMMARY:Stage intuition et développement personnel
DESCRIPTION:Programme sur deux jours:\nTai chi / macro (connexion corp
 s et esprit )\nExercice de psychométrie\nDécouverte de l'écriture a
 utomatique\nMéditation / Cercle\nTravail sur la cohérence et les peu
 rs\nDanse contact\nRelaxation intuitive*\nTarif: 190€ les deux jours
 \nCarnet introspectif fourni\n\nPour plus d'information, aller sur htt
 ps://epanews.fr/events/stage-intuition-et-d-veloppement-personnel
DTSTART;TZID=Europe/Paris:20121026T000000
DTEND;TZID=Europe/Paris:20121027T235900
CATEGORIES:84
LOCATION:Puyvert
WEBSITE:
URL:
CONTACT:0671821388
ORGANIZER;CN=Bodyspiritandlife:https://epanews.fr/profile/Bodyspiritan
 dlife
ATTACH;FMTTYPE="image/jpeg":http://storage.ning.com/topology/rest/1.0/
 file/get/1662683275?profile=original
ATTENDEE;ROLE=REQ-PARTICIPANT;PARTSTAT=ACCEPTED;RSVP=TRUE;CN=Bodyspiri
 tandlife:https://epanews.fr/profile/Bodyspiritandlife
END:VEVENT
END:VCALENDAR
