BEGIN:VCALENDAR
PRODID:NingEventWidget-v1
VERSION:2.0
METHOD:PUBLISH
BEGIN:VTIMEZONE
TZID:Europe/Paris
X-LIC-LOCATION:Europe/Paris
BEGIN:DAYLIGHT
TZOFFSETFROM:+0100
TZOFFSETTO:+0200
TZNAME:CEST
DTSTART:19700329T020000
RRULE:FREQ=YEARLY;BYMONTH=3;BYDAY=-1SU
END:DAYLIGHT
BEGIN:STANDARD
TZOFFSETFROM:+0200
TZOFFSETTO:+0100
TZNAME:CET
DTSTART:19701025T030000
RRULE:FREQ=YEARLY;BYMONTH=10;BYDAY=-1SU
END:STANDARD
END:VTIMEZONE
BEGIN:VEVENT
UID:2485226:Event:2162150
DTSTAMP:20260421T232522Z
SUMMARY:Stage intensif Tango Argentin 6-7 Juin 2015 Paris 20e
DESCRIPTION:              Stage de TANGO ARGENTIN à PARI
 S\n                          6 - 7 JUIN  2015\n10 t
 er Rue Bisson (20e)   M Belleville/Couronnes\nUne approche relationn
 elle et sensitive accessible à tous\nUne méthode pédagogique facili
 tatrice, pour un Tango facile, fluide et créatif\nUne ambiance conviv
 iale, simple et ludique\nUn apport de la méthode Feldenkrais pour plu
 s de conscience dans sa danse\n         Un wk de 2x5h pour s'i
 mbiber du Tango Argentin\nStages réguliers à Paris 20e, et Toulon et
  sa région\nStages à la demande d'associations et de groupes\nToutes
  les infos sur :\n          http://lecorpsdutango.blog4ever.c
 om\nContact / Inscriptions :\n                   ANN
 E-MARIE PAILLARD\n                        06 19
 77 8327\n\nPour plus d'information, aller sur https://epanews.fr/event
 s/stage-intensif-tango-argentin-6-7-juin-2015-paris-20e
DTSTART;TZID=Europe/Paris:20150606T133000
DTEND;TZID=Europe/Paris:20150607T173000
CATEGORIES:75
LOCATION:Studio de Belleville
WEBSITE:http://lecorpsdutango.blog4ever.com
URL:http://lecorpsdutango.blog4ever.com
CONTACT:06 1977 8327
ORGANIZER;CN="Anne-Marie PAILLARD":https://epanews.fr/profile/AnneMari
 ePAILLARD
ATTACH;FMTTYPE="image/jpeg":http://storage.ning.com/topology/rest/1.0/
 file/get/1663290221?profile=original
ATTENDEE;ROLE=REQ-PARTICIPANT;PARTSTAT=ACCEPTED;RSVP=TRUE;CN="Anne-Mar
 ie PAILLARD":https://epanews.fr/profile/AnneMariePAILLARD
END:VEVENT
END:VCALENDAR
