BEGIN:VCALENDAR
PRODID:NingEventWidget-v1
VERSION:2.0
METHOD:PUBLISH
BEGIN:VTIMEZONE
TZID:Europe/Paris
X-LIC-LOCATION:Europe/Paris
BEGIN:DAYLIGHT
TZOFFSETFROM:+0100
TZOFFSETTO:+0200
TZNAME:CEST
DTSTART:19700329T020000
RRULE:FREQ=YEARLY;BYMONTH=3;BYDAY=-1SU
END:DAYLIGHT
BEGIN:STANDARD
TZOFFSETFROM:+0200
TZOFFSETTO:+0100
TZNAME:CET
DTSTART:19701025T030000
RRULE:FREQ=YEARLY;BYMONTH=10;BYDAY=-1SU
END:STANDARD
END:VTIMEZONE
BEGIN:VEVENT
UID:2485226:Event:2161868
DTSTAMP:20260424T032616Z
SUMMARY:Stage intensif Tango Argentin 10-11 Janvier 2015 PARIS 20e
DESCRIPTION:              Stage de TANGO ARGENTIN à PARI
 S\n                          10- 11 Janvier 2015\n10
  ter Rue Bisson (20e)   M Belleville/Couronnes\nUne approche relatio
 nnelle et sensitive accessible à tous\nUne méthode pédagogique faci
 litatrice, pour un Tango facile, fluide et créatif\nUne ambiance conv
 iviale, simple et ludique\nUn apport de la méthode Feldenkrais pour p
 lus de conscience dans sa danse\nUn wk de 2x5h pour s'imbiber du Tango
  Argentin\nStages réguliers à Paris 20e, et Toulon et sa région\nSt
 ages à la demande d'associations et de groupes\nToutes les infos sur 
 :\n          http://lecorpsdutango.blog4ever.com\nContact / I
 nscriptions :\n                   ANNE-MARIE PAILLAR
 D\n                        06 1977 8327\n\nPour
  plus d'information, aller sur https://epanews.fr/events/stage-intensi
 f-tango-argentin-10-11janvier-2015-paris-20e
DTSTART;TZID=Europe/Paris:20150110T133000
DTEND;TZID=Europe/Paris:20150111T173000
CATEGORIES:75
LOCATION:Studio de Belleville
WEBSITE:http://lecorpsdutango.blog4ever.com
URL:http://lecorpsdutango.blog4ever.com
CONTACT:06 1977 8327
ORGANIZER;CN="Anne-Marie PAILLARD":https://epanews.fr/profile/AnneMari
 ePAILLARD
ATTACH;FMTTYPE="image/jpeg":http://storage.ning.com/topology/rest/1.0/
 file/get/1663288990?profile=original
ATTENDEE;ROLE=REQ-PARTICIPANT;PARTSTAT=ACCEPTED;RSVP=TRUE;CN="Anne-Mar
 ie PAILLARD":https://epanews.fr/profile/AnneMariePAILLARD
END:VEVENT
END:VCALENDAR
