BEGIN:VCALENDAR
PRODID:NingEventWidget-v1
VERSION:2.0
METHOD:PUBLISH
BEGIN:VTIMEZONE
TZID:Europe/Paris
X-LIC-LOCATION:Europe/Paris
BEGIN:DAYLIGHT
TZOFFSETFROM:+0100
TZOFFSETTO:+0200
TZNAME:CEST
DTSTART:19700329T020000
RRULE:FREQ=YEARLY;BYMONTH=3;BYDAY=-1SU
END:DAYLIGHT
BEGIN:STANDARD
TZOFFSETFROM:+0200
TZOFFSETTO:+0100
TZNAME:CET
DTSTART:19701025T030000
RRULE:FREQ=YEARLY;BYMONTH=10;BYDAY=-1SU
END:STANDARD
END:VTIMEZONE
BEGIN:VEVENT
UID:2485226:Event:852541
DTSTAMP:20260422T004501Z
SUMMARY:stage intensif sur les Sons GuÃ©risseurs
DESCRIPTION:Lors de cette semaine dâ€™exploration intÃ©rieure, je vous
  invite Ã  une plongÃ©e dans lâ€™univers vibratoire des sons harmoniqu
 es, pour y dÃ©couvrir leurs vertus guÃ©rissantes.\nOutre sa capacitÃ© 
 Ã  relier les Ãªtres Ã  leur essence et Ã  rÃ©veiller une sensibilitÃ©
  endormie, le son est un vÃ©hicule privilÃ©giÃ© entre le monde physiqu
 e et celui de lâ€™esprit. Il contribue Ã  lâ€™Ã©quilibre de nos diffÃ©
 rents corps.\nDe par sa grande fluiditÃ©, le son cherche Ã  sâ€™infilt
 rer partout. Il use sur son passage les blocages et zones de tension, 
 pour faire circuler pleinement lâ€™Ã©nergie de vie.\n\nLâ€™objectif de
  ce stage est de goÃ»ter Ã  une prÃ©sence accrue Ã  soi et Ã  la vie, 
 en reliance avec la nature, dâ€™habiter pleinement son corps, dâ€™Ãªtr
 e le tÃ©moin bienveillant de ses Ã©motions et de ses pensÃ©es, de touc
 her Ã  des Ã©tats de conscience propices Ã  lâ€™ouverture, afin de dÃ©
 velopper nos sens et nos perceptions.\nLes sons seront abordÃ©s comme 
 outils de croissance et de dÃ©veloppement intÃ©rieur pour soi, comme p
 our autrui. Avec la technique du chant harmonique, nous utiliserons no
 tre corps comme instrument de musique, le mettant en rÃ©sonance, pour 
 y laisser sâ€™Ã©panouir toutes les couleurs du son. La dÃ©couverte et 
 lâ€™expÃ©rimentation de nombreux instruments de musique riches en harm
 oniques favorisera le ressenti de la puissance harmonisante des vibrat
 ions sonores. Nous verrons comment lâ€™intention conduit le son.\nUn Ã
 ©tat intÃ©rieur propice au soin sera dÃ©veloppÃ© : qualitÃ© de prÃ©sen
 ce, conscience, sensibilitÃ©, Ã©coute, reliance, lÃ¢cher-prise.\nÂ \nS
 pÃ©cialiste du chant harmonique, Catherine Darbord est Ã©galement scul
 pteuse de sons, musicothÃ©rapeute, thÃ©rapeute psycho-corporelle et Ã©
 ducatrice spÃ©cialisÃ©e.\n\nVIDEOS : http://www.myspace.com/catherined
 arbord\n\nPour plus d'information, aller sur https://epanews.fr/events
 /stage-intensif-sur-les-sons-gu-risseurs
DTSTART;TZID=Europe/Paris:20120819T180000
DTEND;TZID=Europe/Paris:20120825T170000
CATEGORIES:30
LOCATION:CÃ©vennes
WEBSITE:http://www.mandalia-music.com/pages/methode-chant-harmonique.p
 hp
URL:http://www.mandalia-music.com/pages/methode-chant-harmonique.php
CONTACT:06.33.61.68.21
ORGANIZER;CN="DARBORD Catherine":https://epanews.fr/profile/DARBORDCat
 herine
ATTACH;FMTTYPE="image/jpeg":http://storage.ning.com/topology/rest/1.0/
 file/get/1662624036?profile=original
ATTENDEE;ROLE=REQ-PARTICIPANT;PARTSTAT=ACCEPTED;RSVP=TRUE;CN="DARBORD 
 Catherine":https://epanews.fr/profile/DARBORDCatherine
END:VEVENT
END:VCALENDAR
