BEGIN:VCALENDAR
PRODID:NingEventWidget-v1
VERSION:2.0
METHOD:PUBLISH
BEGIN:VTIMEZONE
TZID:Europe/Paris
X-LIC-LOCATION:Europe/Paris
BEGIN:DAYLIGHT
TZOFFSETFROM:+0100
TZOFFSETTO:+0200
TZNAME:CEST
DTSTART:19700329T020000
RRULE:FREQ=YEARLY;BYMONTH=3;BYDAY=-1SU
END:DAYLIGHT
BEGIN:STANDARD
TZOFFSETFROM:+0200
TZOFFSETTO:+0100
TZNAME:CET
DTSTART:19701025T030000
RRULE:FREQ=YEARLY;BYMONTH=10;BYDAY=-1SU
END:STANDARD
END:VTIMEZONE
BEGIN:VEVENT
UID:2485226:Event:2607732
DTSTAMP:20260421T232032Z
SUMMARY:stage intensif d'Ã©tÃ©
DESCRIPTION:Si vous souhaitez vivre un moment hors du commun, je vous 
 propose un stage intensif du 21 soir au 26 aout soir 2016: voyage dans
  l'inconscient cosmique\nLes outils : kundalini yoga, danse contempora
 ine, impro-art -thÃ©rapie. Elever lâ€™Ã©nergie, ouvrir la conscience Ã
   d'autres dimensions et dÃ©couvrir une autre faÃ§on dâ€™Ãªtre ensembl
 e dans la bienveillance et le rire...Le langage du corps est privilÃ©g
 iÃ© car le corps sait ce que l'esprit ne sait pas, nous donnant accÃ¨s
  Ã  notre inconscient par l'imaginaire... PrÃ©paration aux voyages : l
 es matinÃ©es sont consacrÃ©es au yoga kundalini (1h30) et Ã  la danse 
 (1h30) pour vider le mental et ainsi nous prÃ©parer aux ateliers inten
 ses de l'aprÃ¨s midi, vers une transformation profonde. Cette approche
  nourrit la poÃ©sie et lâ€™imaginaire en voyageant dans les mÃ©moires 
 terrestres et cosmiques que nous portons en nous. Pour Ãªtre plus proc
 he de qui nous sommes vraiment et oser ouvrir notre vie au Nouveau. to
 ut savoir sur www.poumi.com\n\nPour plus d'information, aller sur http
 s://epanews.fr/events/stage-intensif-d-t
DTSTART;TZID=Europe/Paris:20160821T190000
DTEND;TZID=Europe/Paris:20160826T190000
CATEGORIES:tous
LOCATION:domaine de boisvinet
WEBSITE:http://www.poumi.com
URL:http://www.poumi.com
CONTACT:0626985642
ORGANIZER;CN="poumi lescaut":https://epanews.fr/profile/poumilescaut
ATTACH;FMTTYPE="image/jpeg":
ATTENDEE;ROLE=REQ-PARTICIPANT;PARTSTAT=ACCEPTED;RSVP=TRUE;CN="poumi le
 scaut":https://epanews.fr/profile/poumilescaut
END:VEVENT
END:VCALENDAR
