BEGIN:VCALENDAR
PRODID:NingEventWidget-v1
VERSION:2.0
METHOD:PUBLISH
BEGIN:VTIMEZONE
TZID:Europe/Paris
X-LIC-LOCATION:Europe/Paris
BEGIN:DAYLIGHT
TZOFFSETFROM:+0100
TZOFFSETTO:+0200
TZNAME:CEST
DTSTART:19700329T020000
RRULE:FREQ=YEARLY;BYMONTH=3;BYDAY=-1SU
END:DAYLIGHT
BEGIN:STANDARD
TZOFFSETFROM:+0200
TZOFFSETTO:+0100
TZNAME:CET
DTSTART:19701025T030000
RRULE:FREQ=YEARLY;BYMONTH=10;BYDAY=-1SU
END:STANDARD
END:VTIMEZONE
BEGIN:VEVENT
UID:2485226:Event:746036
DTSTAMP:20260422T010806Z
SUMMARY:Stage intensif dâ€™Ã©tÃ© : du 24 soir au 29 aoÃ»t 2012
DESCRIPTION:Alchimie et CrÃ©ation\nYoga â€“ danse contemporaine â€“ at
 elier de crÃ©ativitÃ© (art -thÃ©rapie) proposÃ© par Poumi Lescaut\nEn 
 pleine nature, au Plessis Dorin dans le Perche (41) crÃ©ation de masqu
 es, rituel de purification et rÃ©Ã©quilibrage des pÃ´les fÃ©minin-masc
 ulin â€¦\nNous allons dÃ©ployer toute notre crÃ©ativitÃ© en traversant
  diverses Ã©tapes de transformation pour allervers une vÃ©ritable alch
 imie intÃ©rieure, une renaissanceâ€¦Un temps vacant prÃ©cieux pour pre
 ndre soin de soi avec yoga dynamique (Kundalini) dansecontemporaine â€
 “ atelier de crÃ©ativitÃ© (art -thÃ©rapie), pour Ã©lever le niveau Ã©n
 ergÃ©tique qui prÃ©serve lasantÃ©, contacter les forces vives qui nous
  anime, pour se re-crÃ©erâ€¦Outils : yoga dynamique, danse contemporai
 ne, chant, argile, atelier dâ€™impro oÃ¹ la poÃ©sie etlâ€™imaginaire n
 ourrissent les MÃ©moires qui habitent le corpsâ€¦\n\nPour plus d'infor
 mation, aller sur https://epanews.fr/events/stage-intensif-d-t-du-24-s
 oir-au-29-ao-t-2012
DTSTART;TZID=Europe/Paris:20120824T180000
DTEND;TZID=Europe/Paris:20120829T190000
CATEGORIES:41
LOCATION:Plessis Dorin
WEBSITE:http://www.poumi.com/2012/03/alchimie-et-creation/
URL:http://www.poumi.com/2012/03/alchimie-et-creation/
CONTACT:01 45 82 08 70 ou 06 26 98 56 42
ORGANIZER;CN="poumi lescaut":https://epanews.fr/profile/poumilescaut
ATTACH;FMTTYPE="image/jpeg":http://storage.ning.com/topology/rest/1.0/
 file/get/1662584249?profile=original
ATTENDEE;ROLE=REQ-PARTICIPANT;PARTSTAT=ACCEPTED;RSVP=TRUE;CN="poumi le
 scaut":https://epanews.fr/profile/poumilescaut
END:VEVENT
END:VCALENDAR
