BEGIN:VCALENDAR
PRODID:NingEventWidget-v1
VERSION:2.0
METHOD:PUBLISH
BEGIN:VTIMEZONE
TZID:Europe/Paris
X-LIC-LOCATION:Europe/Paris
BEGIN:DAYLIGHT
TZOFFSETFROM:+0100
TZOFFSETTO:+0200
TZNAME:CEST
DTSTART:19700329T020000
RRULE:FREQ=YEARLY;BYMONTH=3;BYDAY=-1SU
END:DAYLIGHT
BEGIN:STANDARD
TZOFFSETFROM:+0200
TZOFFSETTO:+0100
TZNAME:CET
DTSTART:19701025T030000
RRULE:FREQ=YEARLY;BYMONTH=10;BYDAY=-1SU
END:STANDARD
END:VTIMEZONE
BEGIN:VEVENT
UID:2485226:Event:195794
DTSTAMP:20260423T165732Z
SUMMARY:Stage Initiation Massage Relationnel - 3Ã¨me week-end
DESCRIPTION:Â \nPour la 3Ã¨me annÃ©e consÃ©cutive\nStage Initiation\nM
 ASSAGE RELATIONNEL\nSession 2011\nÂ \nen partÃ©nariat avec l' Ecole de
  Massage\nFORMâ€™ACTION\n\nToulon\n12-13 marsÂ  ,Â  16-17 avrilÂ  ,Â  
 21-22 mai 2011\nÂ \nBrignoles\n31-04/01-05Â  /Â  14-15 maiÂ  /Â  04-05
  juin 2011\nÂ \nA qui sâ€™adresse ce stageÂ ?\n-Â  aux particuliers dÃ
 ©sireux de se former pour masser leurs proches (famille, amis..)\n-Â  
 au Personnel Soignant dÃ©sirant amÃ©liorer la relation au patient par 
 le Toucher\n-Â  Ã  toutes personnes sensibilisÃ©es au sens du Toucher 
 vrai, du Toucher aimant, du Toucher juste\nÂ \nPROGRAMME 3Ã¨me WE :\nÂ
  Â Â Â Â Â Â Â  - Massage du ventre\nÂ Â Â Â Â Â Â Â  - Massage sur le
  cotÃ© (dit de la femme enceinte)\nÂ Â Â Â Â Â Â Â  - grand Massage co
 mplet\nÂ \nSupport cours sous forme de livret + DVD de dÃ©monstration 
 fournis en fin de stage\nPossibilitÃ© de prise en charge Formation Pro
 fessionnelle\nFormation Certifiante validÃ©e niveau 1 par lâ€™Ã©cole F
 ormâ€™Action\n\nTarifÂ : 300â‚¬ lâ€™ensemble des 3 week-end\nconsultez
  le site :www.ecoledemassage.fr\nou telÂ : Daniel Plessis -\nPraticien
  Formateur diplÃ´mÃ© - 06 12 21 03 62\nEspace Bien-Etre 83\nUn voyage 
 vers l'autre et vers soi dont\nvous ressortirez diffÃ©rents.\n\nPour p
 lus d'information, aller sur https://epanews.fr/events/stage-initiatio
 n-massage-3
DTSTART;TZID=Europe/Paris:20110521T093000
DTEND;TZID=Europe/Paris:20110522T173000
CATEGORIES:83, 13
LOCATION:TOULON
WEBSITE:http://www.ecoledemassage.fr
URL:http://www.ecoledemassage.fr
CONTACT:0612210362
ORGANIZER;CN="Daniel Plessis":https://epanews.fr/profile/DanielPlessis
ATTACH;FMTTYPE="image/jpeg":http://storage.ning.com/topology/rest/1.0/
 file/get/1662384627?profile=original
ATTENDEE;ROLE=REQ-PARTICIPANT;PARTSTAT=ACCEPTED;RSVP=TRUE;CN="Daniel P
 lessis":https://epanews.fr/profile/DanielPlessis
END:VEVENT
END:VCALENDAR
