BEGIN:VCALENDAR
PRODID:NingEventWidget-v1
VERSION:2.0
METHOD:PUBLISH
BEGIN:VTIMEZONE
TZID:Europe/Paris
X-LIC-LOCATION:Europe/Paris
BEGIN:DAYLIGHT
TZOFFSETFROM:+0100
TZOFFSETTO:+0200
TZNAME:CEST
DTSTART:19700329T020000
RRULE:FREQ=YEARLY;BYMONTH=3;BYDAY=-1SU
END:DAYLIGHT
BEGIN:STANDARD
TZOFFSETFROM:+0200
TZOFFSETTO:+0100
TZNAME:CET
DTSTART:19701025T030000
RRULE:FREQ=YEARLY;BYMONTH=10;BYDAY=-1SU
END:STANDARD
END:VTIMEZONE
BEGIN:VEVENT
UID:2485226:Event:2851830
DTSTAMP:20260420T123533Z
SUMMARY:Stage : Initiation à la Radiesthésie
DESCRIPTION:animé par Aude Martignon\nCette journée inclue :\n​\n
 • un peu d’histoire.\n• les vibrations &amp; les rayonnements.\n
 • les différents types de pendules.\n• le principe de fonctionnem
 ent.\n• la tenue du pendule.\n• les premiers pas.\n• la conventi
 on mentale.\n• la méthodologie : faire le vide mental, vérificatio
 n des polarités, prise de contact avec une personne, formulation\ndes
  questions, les sources d’erreurs, les restrictions…\n• décharg
 er les énergies négatives et recharger les énergies positives (pour
  1 personne, pour l’eau, etc.); nettoyage\nd’une carte de visite, 
 harmonisation des chakras…\n• savoir tester un produit : compléme
 nts alimentaires, huiles essentielles, produits de beauté…\n• la 
 radiesthésie oscillatoire.\n\nPour plus d'information, aller sur http
 s://epanews.fr/events/stage-initiation-la-radiesth-sie-2
DTSTART;TZID=Europe/Paris:20171001T100000
DTEND;TZID=Europe/Paris:20171001T170000
CATEGORIES:06
LOCATION:Espace Aloha
WEBSITE:http://www.espacealoha.net
URL:http://www.espacealoha.net
CONTACT:06 25 29 51 87
ORGANIZER;CN="Espace Aloha":https://epanews.fr/profile/EspaceAloha
ATTACH;FMTTYPE="image/jpeg":
ATTENDEE;ROLE=REQ-PARTICIPANT;PARTSTAT=ACCEPTED;RSVP=TRUE;CN="Espace A
 loha":https://epanews.fr/profile/EspaceAloha
END:VEVENT
END:VCALENDAR
