BEGIN:VCALENDAR
PRODID:NingEventWidget-v1
VERSION:2.0
METHOD:PUBLISH
BEGIN:VTIMEZONE
TZID:Europe/Paris
X-LIC-LOCATION:Europe/Paris
BEGIN:DAYLIGHT
TZOFFSETFROM:+0100
TZOFFSETTO:+0200
TZNAME:CEST
DTSTART:19700329T020000
RRULE:FREQ=YEARLY;BYMONTH=3;BYDAY=-1SU
END:DAYLIGHT
BEGIN:STANDARD
TZOFFSETFROM:+0200
TZOFFSETTO:+0100
TZNAME:CET
DTSTART:19701025T030000
RRULE:FREQ=YEARLY;BYMONTH=10;BYDAY=-1SU
END:STANDARD
END:VTIMEZONE
BEGIN:VEVENT
UID:2485226:Event:2697222
DTSTAMP:20260421T125515Z
SUMMARY:Stage initiation aux outils du mieux-Ãªtre et dÃ©couverte de S
 oi En co-crÃ©ation FranÃ§oise et Sylvie
DESCRIPTION:Â RÃ©flexologie plantaire Ã©nergÃ©tique (10h00)- Nutrition
  et dÃ©tox (corps, Ã¢me, esprit) (3h00)- EFT (3h00)- Ateliers dâ€™indi
 vidualitÃ© (10h00)- MÃ©ditation (tous les jours)- Gi gong (5h00)- Pein
 ture intuitive (3h00)- Les bases de la psycho gÃ©nÃ©alogie (3h00)- Rit
 uels des 5 tibÃ©tains (tous les jours)- Reconnexion Ã  son fÃ©minin/ma
 sculin sacrÃ© (5h00)JournÃ©e type :8h00 : MÃ©ditation, gi gong, rituel
  des 5 tibÃ©tains.9h30 : petit dÃ©jeuner10h/12h00 : RÃ©flexologie Ã©ne
 rgÃ©tique.12h/14h00 : dÃ©jeuner14h/15h30 : Atelier de psycho gÃ©nÃ©alo
 gie/EFT/nutrition- dÃ©tox /reconnexion Ã  son fÃ©minin/masculin sacrÃ©
 /peinture intuitiveTemps libre Ã  partir de 15h30 ;En option : Visite 
 dâ€™Essaouira, Iftane, pratique du VTT, plage, Kite surf, randonnÃ©e Ã
   cheval ou Ã  dromadaire, surf, planche Ã  voile, randonnÃ©e pÃ©destr
 e dans la forÃªt dâ€™arganier, hammam traditionnel, soin Ã©nergÃ©tique
  thÃ©rapeutique â€¦La journÃ©e type proposÃ©e est une trame, câ€™est l
 â€™instant et lâ€™Ã©nergie du groupe qui dirigeront.Tarif stage :Â 470
  eurosSi vous Ãªtes en difficultÃ©s financiÃ©re et si vous avez besoin
  de participer au stage, contactez-nous.HÃ©bergement en pension complÃ
 ¨te :En chambre quadruple 266 euros/personne.Â En chambre triple 315 e
 uros/personne.En chambre double 365 euros/personneSupplÃ©ment chambre 
 seule 250 euros/personne.Inclus : thÃ©, eau et cafÃ© au repas. Autres 
 boissons en sus.Infos et inscription:FranÃ§oise:Praticienne en Shiatsu
  et Gi Gong, praticienne en soin \"Renaissance\".fanfan@riad-darmaris.
 com00212619567769Sylvie:Naturopathe, RÃ©flexologue plantaire, praticie
 nne en lecture Ã©nergÃ©tique.sylvieverner@gmail.com00212620563455\n\nÃ
 € propos de Formation Ã  la Naturopat\n\n\nPour plus d'information, al
 ler sur https://epanews.fr/events/stage-initiation-aux-outils-du-mieux
 -tre-et-d-couverte-de-soi-en
DTSTART;TZID=Europe/Paris:20160903T000000
DTEND;TZID=Europe/Paris:20160908T235900
CATEGORIES:tous
LOCATION:Essaouira Maroc
WEBSITE:
URL:
CONTACT:00212620563455
ORGANIZER;CN=sylstella:https://epanews.fr/profile/sylstella
ATTACH;FMTTYPE="image/jpeg":http://storage.ning.com/topology/rest/1.0/
 file/get/1663595808?profile=original
ATTENDEE;ROLE=REQ-PARTICIPANT;PARTSTAT=ACCEPTED;RSVP=TRUE;CN=sylstella
 :https://epanews.fr/profile/sylstella
END:VEVENT
END:VCALENDAR
