BEGIN:VCALENDAR
PRODID:NingEventWidget-v1
VERSION:2.0
METHOD:PUBLISH
BEGIN:VTIMEZONE
TZID:Europe/Paris
X-LIC-LOCATION:Europe/Paris
BEGIN:DAYLIGHT
TZOFFSETFROM:+0100
TZOFFSETTO:+0200
TZNAME:CEST
DTSTART:19700329T020000
RRULE:FREQ=YEARLY;BYMONTH=3;BYDAY=-1SU
END:DAYLIGHT
BEGIN:STANDARD
TZOFFSETFROM:+0200
TZOFFSETTO:+0100
TZNAME:CET
DTSTART:19701025T030000
RRULE:FREQ=YEARLY;BYMONTH=10;BYDAY=-1SU
END:STANDARD
END:VTIMEZONE
BEGIN:VEVENT
UID:2485226:Event:1124503
DTSTAMP:20260421T132755Z
SUMMARY:Stage Initiation au voyage chamanique et transformation dans l
 a forge alchimique
DESCRIPTION:Apprentissage de la pratique ancestrale du voyage dans les
  «autres mondes» au son du tambour. Rencontrer son animal totem. Tra
 vail chamanique de transformation dans la Forge Alchimique pour acqué
 rir autonomie et guérison.  Ce stage est pré requis pour tous les st
 ages avancés. Autres dates/lieux, plus d’infos ici : nature conscie
 nce et chamanisme\n\nPour plus d'information, aller sur https://epanew
 s.fr/events/stage-initiation-au-voyage-chamanique-et-transformation-da
 ns-la-1
DTSTART;TZID=Europe/Paris:20130208T180000
DTEND;TZID=Europe/Paris:20130210T180000
CATEGORIES:34
LOCATION:Montpellier
WEBSITE:http://www.nature-conscience-chamanisme.fr/nature-conscience-c
 hamanisme/
URL:http://www.nature-conscience-chamanisme.fr/nature-conscience-chama
 nisme/
CONTACT:
ORGANIZER;CN="Nature Conscience Chamanisme":https://epanews.fr/profile
 /NatureConscienceChamanisme
ATTACH;FMTTYPE="image/jpeg":http://storage.ning.com/topology/rest/1.0/
 file/get/1662735245?profile=original
ATTENDEE;ROLE=REQ-PARTICIPANT;PARTSTAT=ACCEPTED;RSVP=TRUE;CN="Nature C
 onscience Chamanisme":https://epanews.fr/profile/NatureConscienceChama
 nisme
END:VEVENT
END:VCALENDAR
