BEGIN:VCALENDAR
PRODID:NingEventWidget-v1
VERSION:2.0
METHOD:PUBLISH
BEGIN:VTIMEZONE
TZID:Europe/Paris
X-LIC-LOCATION:Europe/Paris
BEGIN:DAYLIGHT
TZOFFSETFROM:+0100
TZOFFSETTO:+0200
TZNAME:CEST
DTSTART:19700329T020000
RRULE:FREQ=YEARLY;BYMONTH=3;BYDAY=-1SU
END:DAYLIGHT
BEGIN:STANDARD
TZOFFSETFROM:+0200
TZOFFSETTO:+0100
TZNAME:CET
DTSTART:19701025T030000
RRULE:FREQ=YEARLY;BYMONTH=10;BYDAY=-1SU
END:STANDARD
END:VTIMEZONE
BEGIN:VEVENT
UID:2485226:Event:639710
DTSTAMP:20260422T151153Z
SUMMARY:Stage Initiation au Voyage Chamanique et Atelier Créatif
DESCRIPTION:Pour retrouver la dimension profonde qui anime toute chose
 , nous allons réapprendre à communiquer avec les « mondes invisible
 s ». Dans toutes les anciennes cultures chamaniques on raconte les ex
 ploits et initiations vécues dans les Mondes du Dessous ou les Mondes
  d’en Haut.Nous allons reprendre certaines de ces pratiques chamaniq
 ues ancestrales et, poussés par le son du tambour, en état de consci
 ence modifié, traverser le tunnel vers ces autres dimensions.\nUn ate
 lier créatif vous permettra en cours de stage de créer un support pe
 rsonnalisé de connexion, travail en lien avec l'esprit du labyrinthe,
  de la nature et des cristaux.\nTarif: 270€ adultes\nPossibilité po
 ur ceux qui ont déjà suivi le stage d'initiation de ne participer qu
 'à la journée créative pour réaliser son support de connexion au t
 arif de 80€\n\nPour plus d'information, aller sur https://epanews.fr
 /events/stage-initiation-au-voyage-chamanique-5
DTSTART;TZID=Europe/Paris:20120316T090000
DTEND;TZID=Europe/Paris:20120318T180000
CATEGORIES:34
LOCATION:Montpellier
WEBSITE:
URL:
CONTACT:04 90 90 39 30
ORGANIZER;CN="Nature Conscience Chamanisme":https://epanews.fr/profile
 /NatureConscienceChamanisme
ATTACH;FMTTYPE="image/jpeg":
ATTENDEE;ROLE=REQ-PARTICIPANT;PARTSTAT=ACCEPTED;RSVP=TRUE;CN="Nature C
 onscience Chamanisme":https://epanews.fr/profile/NatureConscienceChama
 nisme
END:VEVENT
END:VCALENDAR
