BEGIN:VCALENDAR
PRODID:NingEventWidget-v1
VERSION:2.0
METHOD:PUBLISH
BEGIN:VTIMEZONE
TZID:Europe/Paris
X-LIC-LOCATION:Europe/Paris
BEGIN:DAYLIGHT
TZOFFSETFROM:+0100
TZOFFSETTO:+0200
TZNAME:CEST
DTSTART:19700329T020000
RRULE:FREQ=YEARLY;BYMONTH=3;BYDAY=-1SU
END:DAYLIGHT
BEGIN:STANDARD
TZOFFSETFROM:+0200
TZOFFSETTO:+0100
TZNAME:CET
DTSTART:19701025T030000
RRULE:FREQ=YEARLY;BYMONTH=10;BYDAY=-1SU
END:STANDARD
END:VTIMEZONE
BEGIN:VEVENT
UID:2485226:Event:1048554
DTSTAMP:20260423T054758Z
SUMMARY:Stage \"Incarner son rêve\" samedi 1 décembre
DESCRIPTION:Pendant ce stage, nous allons apprendre comment identifier
  nos croyances limitantes et les déprogrammer sur place, ainsi que re
 nforcer et maîtriser les lois universelles de la création dans l’i
 ncarnation (le but ultime du créateur). Ainsi, vos rêves deviendront
  réalité.\n\nPour plus d'information, aller sur https://epanews.fr/e
 vents/stage-incarner-son-r-ve-samedi-1-d-cembre
DTSTART;TZID=Europe/Paris:20121201T100000
DTEND;TZID=Europe/Paris:20121201T180000
CATEGORIES:33
LOCATION:Bordeaux
WEBSITE:http://hypnose.eveil.free.fr/index.php?page_name=calendrier
URL:http://hypnose.eveil.free.fr/index.php?page_name=calendrier
CONTACT:0673130122
ORGANIZER;CN=Artemis:https://epanews.fr/profile/Artemis
ATTACH;FMTTYPE="image/jpeg":http://storage.ning.com/topology/rest/1.0/
 file/get/1662707381?profile=original
ATTENDEE;ROLE=REQ-PARTICIPANT;PARTSTAT=ACCEPTED;RSVP=TRUE;CN=Artemis:h
 ttps://epanews.fr/profile/Artemis
END:VEVENT
END:VCALENDAR
