BEGIN:VCALENDAR
PRODID:NingEventWidget-v1
VERSION:2.0
METHOD:PUBLISH
BEGIN:VTIMEZONE
TZID:Europe/Paris
X-LIC-LOCATION:Europe/Paris
BEGIN:DAYLIGHT
TZOFFSETFROM:+0100
TZOFFSETTO:+0200
TZNAME:CEST
DTSTART:19700329T020000
RRULE:FREQ=YEARLY;BYMONTH=3;BYDAY=-1SU
END:DAYLIGHT
BEGIN:STANDARD
TZOFFSETFROM:+0200
TZOFFSETTO:+0100
TZNAME:CET
DTSTART:19701025T030000
RRULE:FREQ=YEARLY;BYMONTH=10;BYDAY=-1SU
END:STANDARD
END:VTIMEZONE
BEGIN:VEVENT
UID:2485226:Event:1788121
DTSTAMP:20260420T161226Z
SUMMARY:Stage Hypnose - Atteindre son poids santÃ©
DESCRIPTION:AUTO-HYPNOSE - RÃ©gler sonÂ COMPORTEMENT ALIMENTAIRE &Â at
 teindre sonÂ POIDS SANTE\nDateÂ :Â 5 et 6 AVRIL 2014Â - Â Aubagne (13)
 Â \nPour ceux et celles qui cherchent Ã  travailler sur leurs troubles
  alimentaires quels qu'ils soient...\nObjectif\nAccÃ©lÃ©rer et optimis
 er vos objectifs en vous libÃ©rant de vos pulsionsÂ et en modifiant vo
 tre comportement alimentaire.\nProgramme\n\nDÃ©termination dâ€™un obje
 ctif Â« poids santÃ© Â» Ã  atteindre\nDiffÃ©rence entre besoin physiqu
 e et besoin Ã©motionnel\nTravail sur les croyances\nRencontre avec ses
  archÃ©types aidants\nUtilisation de la thÃ©rapie symbolique\nNettoyag
 e des Ã©motions nÃ©gatives\nTravail sur les solutions\n\nâ€‹Reprenez e
 nfin le contrÃ´le de votre corps !\nTarif : 180 â‚¬ par personne\nDurÃ
 ©e du stage : Sur 2 jours, samedi et dimanche, de 9h30 Ã  12h30 et de 
 14h Ã  17h\nLieu de formation :Â Le lieu du stage dÃ©pend du nombre d'
 inscrits. Il vous sera donc prÃ©cisÃ© sur la convocation qui vous sera
  adressÃ©e par mail 10 jours avant le dÃ©but du stage.\nÂ \nÂ \n\n\nPo
 ur plus d'information, aller sur https://epanews.fr/events/stage-hypno
 se-atteindre-son-poids-sant
DTSTART;TZID=Europe/Paris:20140405T000000
DTEND;TZID=Europe/Paris:20140406T235900
CATEGORIES:13
LOCATION:Aubagne
WEBSITE:http://www.hypnoseconcept.com/stages.htm
URL:http://www.hypnoseconcept.com/stages.htm
CONTACT:0661323656
ORGANIZER;CN="VÃ©ronique EdÃ©ry":https://epanews.fr/profile/EDERY
ATTACH;FMTTYPE="image/jpeg":http://storage.ning.com/topology/rest/1.0/
 file/get/1663064049?profile=original
ATTENDEE;ROLE=REQ-PARTICIPANT;PARTSTAT=ACCEPTED;RSVP=TRUE;CN=Nabila:ht
 tps://epanews.fr/profile/Nabila
ATTENDEE;ROLE=REQ-PARTICIPANT;PARTSTAT=ACCEPTED;RSVP=TRUE;CN="VÃ©roniq
 ue EdÃ©ry":https://epanews.fr/profile/EDERY
END:VEVENT
END:VCALENDAR
