BEGIN:VCALENDAR
PRODID:NingEventWidget-v1
VERSION:2.0
METHOD:PUBLISH
BEGIN:VTIMEZONE
TZID:Europe/Paris
X-LIC-LOCATION:Europe/Paris
BEGIN:DAYLIGHT
TZOFFSETFROM:+0100
TZOFFSETTO:+0200
TZNAME:CEST
DTSTART:19700329T020000
RRULE:FREQ=YEARLY;BYMONTH=3;BYDAY=-1SU
END:DAYLIGHT
BEGIN:STANDARD
TZOFFSETFROM:+0200
TZOFFSETTO:+0100
TZNAME:CET
DTSTART:19701025T030000
RRULE:FREQ=YEARLY;BYMONTH=10;BYDAY=-1SU
END:STANDARD
END:VTIMEZONE
BEGIN:VEVENT
UID:2485226:Event:2866372
DTSTAMP:20260420T123616Z
SUMMARY:Stage \"Habitat crÃ©atif\"
DESCRIPTION:Deux jours de pratiques autour du livre \"Lâ€™Habitat CrÃ©
 atif\" de Pierre & CÃ©line LASSALLE.\nOu habitez-vous ?\nFaire de votr
 e lieu de vie un vrai lieu de Vie -la vÃ´tre-, Ã§a vous dit ?Â Mettez 
 de la LumiÃ¨re dans votre habitat, afin dâ€™en Ãªtre le vrai habitant 
 ! DÃ©couvrez les Â« miroirs Â» de votre logis : habitez-vous rÃ©elleme
 nt chez vous ?Â Etre en sÃ©curitÃ© chez soi est essentiel : dÃ©couvrez
  des clÃ©s pour vivre sans verrouiller toutes vos serrures.Lâ€™habitat
  et la psychÃ© humaine, c'est : \"Dis-moi comment sont tes piÃ¨ces, et
  je te dirai qui tu es\". Rencontrez-vous tous les jours et apprenez Ã
   Ã©voluer en conscience Ã  la maison.Â Amusez-vous et apprenez Ã  rÃ©
 amÃ©nager et Ã  dÃ©corer de faÃ§on renouvelÃ©eÂ votre habitat grÃ¢ce Ã
   des mÃ©thodes exclusives et ludiques dont la pratique de la mÃ©ditat
 ion occidentale.\nOuvrez les fenÃªtres\nPourquoi et comment faire circ
 uler harmonieusement lâ€™Ã©nergie, grÃ¢ce aux couleurs et aux formes (
 objets, etc.) ?Â Ajoutez une dimension sacrÃ©e Ã  votre foyer et faite
 s une place pour le futur et la Providence.\nOuvrez les fenÃªtres de v
 otre esprit et crÃ©ez un foyer qui vous sourit !\nLa lecture du livre 
 Lâ€™Habitat CrÃ©atif est requise.Inscription sur ce site, rÃ¨glement s
 ur place. Merci d'honorer votre rÃ©servation.Le lieu prÃ©cis, au quart
 ier PhilippidÃ¨s, est indiquÃ© quelques jours avant aux inscrits.Infor
 mations pratiquesÂ sur le stage auprÃ¨s deÂ Elisabeth au 05 16 44 09 5
 6, le mardi et jeudi.\nTarif : 190â‚¬\nLes intervenants\nCÃ©line LASSA
 LLELa poÃ©sie de la vie\nAthlÃ¨te en gymnastique acrobatique, CÃ©line 
 joue Ã  prÃ©sent avec la souplesse des mots pour dessiner avec une crÃ
 ©ativitÃ© gÃ©nÃ©reuse et fraternelle, une spiritualitÃ© hÃ©roÃ¯que, no
 tammentÂ en mariant poÃ©sie et image pour rÃ©vÃ©ler les forces de tran
 sformation, de beautÃ©, dâ€™amour et d'unitÃ© du CÅ“ur.\nCÃ©line qui a
  coÃ©crit 6 ouvrages avec son mari, et un autre, seule, \"365 Inspirat
 ions dâ€™Amour\", est aussi confÃ©renciÃ¨re et animatrice de stages de
  rÃ©vÃ©lation de soi.\nLucie DELALAIN\nL'art au serviceÂ du futur\nArt
 iste sous le nom de LucidaÃ«lle, auteure, confÃ©renciÃ¨re et animatric
 e, Lucie crÃ©Ã© les univers graphiques et artistiques des ouvrages de 
 Pierre LASSALLE en donnant une forme visuelle aux messages de sagesse 
 des mondes invisibles. Elle soutient les jeunes dans leur futur crÃ©at
 if.\n\nPour plus d'information, aller sur https://epanews.fr/events/st
 age-habitat-cr-atif
DTSTART;TZID=Europe/Paris:20170930T100000
DTEND;TZID=Europe/Paris:20171001T190000
CATEGORIES:34, 30, 12, 81, 66, 31, 84, 13
LOCATION:Montpellier
WEBSITE:https://www.happyplanete.org/evenement/939/habitat-cratif-tre-
 soi-chez-soi
URL:https://www.happyplanete.org/evenement/939/habitat-cratif-tre-soi-
 chez-soi
CONTACT:0467 12 00 27
ORGANIZER:Happy PlanÃ¨te
ATTACH;FMTTYPE="image/jpeg":http://storage.ning.com/topology/rest/1.0/
 file/get/1663688330?profile=original
ATTENDEE;ROLE=REQ-PARTICIPANT;PARTSTAT=ACCEPTED;RSVP=TRUE;CN="Anne Hal
 ais":https://epanews.fr/profile/AnneHalais
ATTENDEE;ROLE=REQ-PARTICIPANT;PARTSTAT=TENTATIVE;RSVP=TRUE;CN=cristina
 :https://epanews.fr/profile/dacostalima
END:VEVENT
END:VCALENDAR
