BEGIN:VCALENDAR
PRODID:NingEventWidget-v1
VERSION:2.0
METHOD:PUBLISH
BEGIN:VTIMEZONE
TZID:Europe/Paris
X-LIC-LOCATION:Europe/Paris
BEGIN:DAYLIGHT
TZOFFSETFROM:+0100
TZOFFSETTO:+0200
TZNAME:CEST
DTSTART:19700329T020000
RRULE:FREQ=YEARLY;BYMONTH=3;BYDAY=-1SU
END:DAYLIGHT
BEGIN:STANDARD
TZOFFSETFROM:+0200
TZOFFSETTO:+0100
TZNAME:CET
DTSTART:19701025T030000
RRULE:FREQ=YEARLY;BYMONTH=10;BYDAY=-1SU
END:STANDARD
END:VTIMEZONE
BEGIN:VEVENT
UID:2485226:Event:1232484
DTSTAMP:20260422T232314Z
SUMMARY:Stage Free Moon
DESCRIPTION:Deux jours de stages durant lesquels Lydia Vasquez et Juli
 en Fihey vous proposent des outils pour mieux connaÃ®tre lâ€™Ã©nergie 
 des cycles fÃ©minins et la maÃ®triser.Une mÃ©thode simple et ludique q
 ui allie diffÃ©rentes connaissances et techniques ancestrales et moder
 nes et les adapte Ã  notre mode de vie actuelle.En retrouvant une maÃ®
 trise de leur corps, les femmes se libÃ¨rent des contraintes du cycle 
 menstruel.Chant, danse, musique, respiration, mÃ©ditation, rituels...d
 es rÃ©sultats tangibles:-LibertÃ© de ne plus utiliser de protections h
 ygiÃ©niques !-Disparition des douleurs menstruelles-ComprÃ©hension des
  diffÃ©rentes Ã©tapes du cycle menstruel-Simplification du passage de 
 la mÃ©nopause-AmÃ©lioration de la fertilitÃ©-RÃ©duction des risques dâ
 €™incontinence et de descente d'organesÂ Nous encadrons ce stage en co
 uple pour marier nos connaissances et compÃ©tences.Tous les exercices 
 sont accompagnÃ©s en musique par Julien FiheyTarif: 250 euros/pers.Ins
 crivez-vous vite, les places sont limitÃ©esPlus d'infos sur notre site
 :http://free.moon.free.fr/Free_Moon/Free_Moon.html\n\nPour plus d'info
 rmation, aller sur https://epanews.fr/events/stage-free-moon-1
DTSTART;TZID=Europe/Paris:20130427T090000
DTEND;TZID=Europe/Paris:20130428T180000
CATEGORIES:56
LOCATION:Vannes
WEBSITE:https://maps.google.com/maps?q=Vannes+56000&hl=fr&sll=37.0625,
 -95.677068&sspn=58.033539,114.433594&t=h&hnear=Vannes,+Morbihan,+Breta
 gne,+France&z=13
URL:https://maps.google.com/maps?q=Vannes+56000&hl=fr&sll=37.0625,-95.
 677068&sspn=58.033539,114.433594&t=h&hnear=Vannes,+Morbihan,+Bretagne,
 +France&z=13
CONTACT:09 83 39 16 64
ORGANIZER:Free Moon- Lydia Vasquez et Julien Fihey
ATTACH;FMTTYPE="image/jpeg":http://storage.ning.com/topology/rest/1.0/
 file/get/1662780725?profile=original
ATTENDEE;ROLE=REQ-PARTICIPANT;PARTSTAT=ACCEPTED;RSVP=TRUE;CN="chacun s
 on rythme-julien fihey":https://epanews.fr/profile/chacunsonrythmejuli
 enfihey
END:VEVENT
END:VCALENDAR
