BEGIN:VCALENDAR
PRODID:NingEventWidget-v1
VERSION:2.0
METHOD:PUBLISH
BEGIN:VTIMEZONE
TZID:Europe/Paris
X-LIC-LOCATION:Europe/Paris
BEGIN:DAYLIGHT
TZOFFSETFROM:+0100
TZOFFSETTO:+0200
TZNAME:CEST
DTSTART:19700329T020000
RRULE:FREQ=YEARLY;BYMONTH=3;BYDAY=-1SU
END:DAYLIGHT
BEGIN:STANDARD
TZOFFSETFROM:+0200
TZOFFSETTO:+0100
TZNAME:CET
DTSTART:19701025T030000
RRULE:FREQ=YEARLY;BYMONTH=10;BYDAY=-1SU
END:STANDARD
END:VTIMEZONE
BEGIN:VEVENT
UID:2485226:Event:146016
DTSTAMP:20260420T165210Z
SUMMARY:Stage Free Mind
DESCRIPTION:Objectifs:\n\n1. GÃ©rer son stress : apprendre Ã  identifi
 er, diminuer et mÃªme Ã©liminer les systÃ¨mes de croyance qui sont Ã  
 lâ€™origine de lâ€™anxiÃ©tÃ©, des peurs, etc..\n2. Travailler la commu
 nication assertive.\n3. Changer ses relations : par le biais de dynami
 ques qui amÃ¨nent Ã  expÃ©rimenter en profondeur les relations et les 
 connections de couple, de relations parents-enfants, dâ€™amitiÃ©, de c
 ollÃ¨gue de bureau, des personnes de son entourage et principalement a
 vec soi-mÃªme.\n4. Identifier la diffÃ©rence entre la rÃ©alitÃ© et lâ€
 ™illusion.\nEtre prÃ©sent dans lâ€™ Â«Ici et maintenant Â»\n5. Clarifi
 er le mental : vivre et travailler de maniÃ¨re plus productive et effi
 cace, avec intÃ©gritÃ©, en ligne avec son objectif personnel.\n6. Appr
 endre les diffÃ©rentes maniÃ¨res par lesquelles le corps additionne to
 ut ce que lâ€™on pense.\n7. ConnaÃ®tre, confronter et se responsabilis
 er de ce que lâ€™on pense, dit et fait (congruence).\n8. Paix : DÃ©cou
 vrir comment Â« Aimer ce qui est Â».\n9. ConnaÃ®tre diffÃ©rents styles
  de mÃ©ditation.\n\nLiyan Sian, instructrice et crÃ©atrice de la mÃ©th
 ode Free Mind\n\nLiyan Sian\n\nDâ€™origine BrÃ©silienne et vivant actu
 ellement aux Etats-Unis, Liyan Sian est Instructrice de Condor Blanco 
 depuis 15 ans.\nElle a reÃ§u une formation de Leadership, NumÃ©rologie
 , ThÃ©rapie par la Danse, Coaching et MÃ©ditation au sein de lâ€™organ
 isation Condor Blanco.\nElle a appris et complÃ©tÃ© sa formation de te
 chniques de dÃ©veloppement personnel dans plusieurs pays dâ€™AmÃ©rique
  Latine, aux Etats-Unis, en Europe, en Afrique du Sud, dans les Pays A
 rabes et en Inde.\nLiyan Sian a reÃ§u une formation de la technique Â«
  The Work Â» de lâ€™Ã©crivain et confÃ©renciÃ¨re Byron Katie, auteur d
 u Livre Â« Aimer ce qui est Â».\n\nPour plus d'information, aller sur 
 https://epanews.fr/events/stage-free-mind-1
DTSTART;TZID=Europe/Paris:20101119T190000
DTEND;TZID=Europe/Paris:20101121T190000
CATEGORIES:paris
LOCATION:Paris
WEBSITE:
URL:
CONTACT:
ORGANIZER:Condor Blanco Paris
ATTACH;FMTTYPE="image/jpeg":http://storage.ning.com/topology/rest/1.0/
 file/get/1662354359?profile=original
ATTENDEE;ROLE=REQ-PARTICIPANT;PARTSTAT=ACCEPTED;RSVP=TRUE;CN="Manitari
  Araceli Salgado":https://epanews.fr/profile/ManitariAraceliSalgado
END:VEVENT
END:VCALENDAR
