BEGIN:VCALENDAR
PRODID:NingEventWidget-v1
VERSION:2.0
METHOD:PUBLISH
BEGIN:VTIMEZONE
TZID:Europe/Paris
X-LIC-LOCATION:Europe/Paris
BEGIN:DAYLIGHT
TZOFFSETFROM:+0100
TZOFFSETTO:+0200
TZNAME:CEST
DTSTART:19700329T020000
RRULE:FREQ=YEARLY;BYMONTH=3;BYDAY=-1SU
END:DAYLIGHT
BEGIN:STANDARD
TZOFFSETFROM:+0200
TZOFFSETTO:+0100
TZNAME:CET
DTSTART:19701025T030000
RRULE:FREQ=YEARLY;BYMONTH=10;BYDAY=-1SU
END:STANDARD
END:VTIMEZONE
BEGIN:VEVENT
UID:2485226:Event:538367
DTSTAMP:20260423T132946Z
SUMMARY:Stage formation '' massage Bien - Etre ''
DESCRIPTION:ESPACE BIEN-ETRE & ZEN\nDomaineÂ  de la CoudouliÃ¨re\n06 7
 2 96 31 02Â Â Â  Â www.ass-oya.fr\nÂ \nStage de formation au massage\n
 de Bien EtreÂ \nLes 29 et 30 octobre 2011\nde 09h45 Ã  17h00\nÂ \nPart
 icipation 60 â‚¬ / jour\nNombre de places disponibles 10 personnes\nÂ 
 \nRÃ©servation et inscription\nAu 06 19 15 16 70\nOu par mail Â franck
 aubert53@yahoo.fr\nÂ \nÂ Â Â Â Â Â Â Â Â  Â Â Â Â Â Franck AUBERT\nÂ Â
  Â Â Â Â Â Â Â Â Â Â Â Â Â Â Â Â Â Â Â Â  Conseiller en relations huma
 ines\nÂ Â Â Â Â Â Â Â Â Â Â Â Â Â Â Â Â Â Â Â Â  Aide au dÃ©veloppemen
 t personnel\nÂ Â Â Â Â Â Â Â Â Â Â Â Â Â Â Â Â Â  Connaissance de Soi\
 nÂ Â Â Â Â Â Â Â Â Â Â Â Â Â Â Â Â  Gestion des conflits\nÂ Â Â Â Â Â 
 Â Â Â Â Â Â Â Â Â Â  Soins Ã©nergie â€“ massagesÂ Â Â  RDV auÂ Â Â Â Â
  Â Â Â Â Â  Â 06 19 15 16 70\n\nPour plus d'information, aller sur htt
 ps://epanews.fr/events/stage-formation-massage-bien-etre
DTSTART;TZID=Europe/Paris:20111029T000000
DTEND;TZID=Europe/Paris:20111030T235900
CATEGORIES:83
LOCATION:Six Fours
WEBSITE:http://www.ass-oya.fr
URL:http://www.ass-oya.fr
CONTACT:0619151670
ORGANIZER;CN="Franck et Nadine Sarah Aubert":https://epanews.fr/profil
 e/FranckAUBERT
ATTACH;FMTTYPE="image/jpeg":http://storage.ning.com/topology/rest/1.0/
 file/get/1662464343?profile=original
ATTENDEE;ROLE=REQ-PARTICIPANT;PARTSTAT=ACCEPTED;RSVP=TRUE;CN="Franck e
 t Nadine Sarah Aubert":https://epanews.fr/profile/FranckAUBERT
END:VEVENT
END:VCALENDAR
