BEGIN:VCALENDAR
PRODID:NingEventWidget-v1
VERSION:2.0
METHOD:PUBLISH
BEGIN:VTIMEZONE
TZID:Europe/Paris
X-LIC-LOCATION:Europe/Paris
BEGIN:DAYLIGHT
TZOFFSETFROM:+0100
TZOFFSETTO:+0200
TZNAME:CEST
DTSTART:19700329T020000
RRULE:FREQ=YEARLY;BYMONTH=3;BYDAY=-1SU
END:DAYLIGHT
BEGIN:STANDARD
TZOFFSETFROM:+0200
TZOFFSETTO:+0100
TZNAME:CET
DTSTART:19701025T030000
RRULE:FREQ=YEARLY;BYMONTH=10;BYDAY=-1SU
END:STANDARD
END:VTIMEZONE
BEGIN:VEVENT
UID:2485226:Event:634194
DTSTAMP:20260423T040749Z
SUMMARY:Stage FÃ©dÃ©ral d'AÃ¯-DÃ´i
DESCRIPTION:L'AÃ¯-DÃ´i est un art pacifiant, prolongeant naturellement
 Â  l'AÃ¯kidÃ´Â  de MaÃ®treÂ Kobayashi Hirokazu SenseÃ¯Â .\nDaniel Laze
 nnec, Â pratiquant le BudÃ´ depuis plus de quarante ans au Japon et en
  Europe, enseigne depuis les annÃ©es 80 dans plusieursÂ  pays. Au cour
 s de ce stage, il transmettraÂ Â des outils pratiques et concrets, uti
 lisables par tous, quelle que soit la discipline Ã©tudiÃ©e ou enseignÃ
 ©e par ailleurs, car ces outils constituent la base des BudÃ´* et perm
 ettent de passer de la maÃ®trise de techniques Ã  la notion fondamenta
 le de MaÃ®tre.\nLe prochain week-end dâ€™expÃ©rimentations aura lieu l
 es 7 et 8 janvier 2012 Ã  SAINT-PALAIS (64), au DÃ´jÃ´ Banbu Bihotza /
  CÅ“ur de Bambou, 12 avenue de Gibraltar, organisÃ© par lâ€™associatio
 n Saint-Palaisienne Ezti Ta Bizi /Calme et Dynamisme. Â \nÂ \nVoici le
  programmeÂ :\nÂ \nLe SamediÂ  7 janvier :\n\n10h30 Ã  12hÂ : SÃ©ance 
 ouverte Ã  tous,\n15h Ã  16h30Â : SÃ©ance pour les personnes de plus d
 e deux annÃ©es de pratique, quelle que soit cette pratique,\n17h30 Ã  
 19hÂ : SÃ©ance ouverte Ã  tous,\n19h30 : ApÃ©ritif et buffet convivial
 , vÃ©ritable moment de partage et de questions personnelles,\n20h30 : 
 ConfÃ©rence sur le thÃ¨meÂ : Â«Â Le sens des gestes et des comportemen
 ts Â»\n\nÂ \nLe dimanche 8 janvier :\n\n8 h 30 Ã  10 heuresÂ : SÃ©ance
  pour les personnes de plus de deux annÃ©es de pratique, quelle que so
 it cette pratique,\n10 h 30 Ã  12 hÂ : SÃ©ance ouverte Ã  tous,\n12 h 
 30 : Pot de lâ€™amitiÃ©.\n\nÂ \nPour obtenir des renseignements ou vou
 s inscrireÂ : eztitabizi@neuf.frÂ ;Â  0559 38 66 15 ou 0601 94 78 11.\
 n\nPour plus d'information, aller sur https://epanews.fr/events/stage-
 f-d-ral-d-a-d-i
DTSTART;TZID=Europe/Paris:20120107T000000
DTEND;TZID=Europe/Paris:20120108T235900
CATEGORIES:64
LOCATION:BAYONNE
WEBSITE:http://www.aidoi.com
URL:http://www.aidoi.com
CONTACT:05 59 38 66 15 ou 06 01 94 78 11
ORGANIZER:Marie SAVARY
ATTACH;FMTTYPE="image/jpeg":http://storage.ning.com/topology/rest/1.0/
 file/get/1662519779?profile=original
ATTENDEE;ROLE=REQ-PARTICIPANT;PARTSTAT=ACCEPTED;RSVP=TRUE;CN=SAVARY:ht
 tps://epanews.fr/profile/SAVARY
END:VEVENT
END:VCALENDAR
