BEGIN:VCALENDAR
PRODID:NingEventWidget-v1
VERSION:2.0
METHOD:PUBLISH
BEGIN:VTIMEZONE
TZID:Europe/Paris
X-LIC-LOCATION:Europe/Paris
BEGIN:DAYLIGHT
TZOFFSETFROM:+0100
TZOFFSETTO:+0200
TZNAME:CEST
DTSTART:19700329T020000
RRULE:FREQ=YEARLY;BYMONTH=3;BYDAY=-1SU
END:DAYLIGHT
BEGIN:STANDARD
TZOFFSETFROM:+0200
TZOFFSETTO:+0100
TZNAME:CET
DTSTART:19701025T030000
RRULE:FREQ=YEARLY;BYMONTH=10;BYDAY=-1SU
END:STANDARD
END:VTIMEZONE
BEGIN:VEVENT
UID:2485226:Event:2918657
DTSTAMP:20260422T155447Z
SUMMARY:Stage \"Explorer et se reconnecter Ã  sa propre Nature\"
DESCRIPTION:Stage de ressourcement et de cheminement\ndans la plus hau
 te reculÃ©e du Jura.\nObserver la Nature, interagir avec elle, est un 
 moyen d'en apprendre beaucoup sur notre propre nature.\nNous vous prop
 osons un cheminement intÃ©rieur en douceur, pendant 3 jours, qui s'app
 uiera sur des soins individuels et des temps collectifs d'immersion en
  nature.\nRandonnÃ©e, Ã©quicoaching, atelier crÃ©atif vous permettront
  d'affirmer ou dÃ©couvrir vos ressources et d'identifier les points de
  blocage pour une vie Ã©panouie et Ã©quilibrÃ©e.\nBÃ©atrice Simon, thÃ
 ©rapeute holistique\nChristelle Jeannin, psychologue maÃ¯eusthÃ©sie\nC
 hristian LahÃ©made, manager et coach\nTarif : 330â‚¬ hÃ©bergement comp
 ris\nDÃ©tails :https://re-sources-jura.jimdo.com/stages/stage-explorer
 -et-se-reconnecter-Ã -sa-propre-nature/\nContact : Christian au 06.09.
 32.45.18\nbeatrice.simon1@gmail.comÂ  Â  Â  Â  Â  Â  Â  Â  Â  Â  Â  Â 
  Â  Â  Â  Â  Â  Â  Â  Â  Â  Â  Â  Â  Â  Â  Â  Â  Â  Â  Â  Â  Â  Â  Â  
 Â  re-sources-jura@outlook.frÂ  Â  Â  Â  Â  Â  Â  Â  Â  Â  Â  Â  Â  Â 
  Â  Â  Â  Â Â \n\nPour plus d'information, aller sur https://epanews.f
 r/events/stage-explorer-et-se-reconnecter-sa-propre-nature
DTSTART;TZID=Europe/Paris:20180209T000000
DTEND;TZID=Europe/Paris:20180211T235900
CATEGORIES:39
LOCATION:LES PLANCHES PRES ARBOIS
WEBSITE:
URL:
CONTACT:06.09.32.45.18
ORGANIZER;CN="Re-sources Jura":https://epanews.fr/profile/ResourcesJur
 a
ATTACH;FMTTYPE="image/jpeg":http://storage.ning.com/topology/rest/1.0/
 file/get/1663710180?profile=original
ATTENDEE;ROLE=REQ-PARTICIPANT;PARTSTAT=ACCEPTED;RSVP=TRUE;CN="Re-sourc
 es Jura":https://epanews.fr/profile/ResourcesJura
END:VEVENT
END:VCALENDAR
