BEGIN:VCALENDAR
PRODID:NingEventWidget-v1
VERSION:2.0
METHOD:PUBLISH
BEGIN:VTIMEZONE
TZID:Europe/Paris
X-LIC-LOCATION:Europe/Paris
BEGIN:DAYLIGHT
TZOFFSETFROM:+0100
TZOFFSETTO:+0200
TZNAME:CEST
DTSTART:19700329T020000
RRULE:FREQ=YEARLY;BYMONTH=3;BYDAY=-1SU
END:DAYLIGHT
BEGIN:STANDARD
TZOFFSETFROM:+0200
TZOFFSETTO:+0100
TZNAME:CET
DTSTART:19701025T030000
RRULE:FREQ=YEARLY;BYMONTH=10;BYDAY=-1SU
END:STANDARD
END:VTIMEZONE
BEGIN:VEVENT
UID:2485226:Event:896946
DTSTAMP:20260421T143606Z
SUMMARY:Stage \"estime de soi - confiance en soi\"
DESCRIPTION:Stage thématique en Dordogne.\nL’estime de soi peut êt
 re définie comme une appréciation favorable que l’on a de soi-mêm
 e, de sa propre valeur, et une certaine satisfaction morale à se déf
 inir comme irréprochable enconscience. C’est un sentiment positif f
 ace aux qualités que l’on se reconnaît.\nLa confiance en soi, quan
 t à elle, s’établit dans une relation de soi à soi.\nCe stage de 
 développement personnel va vous permettre de :\n- prendre conscience 
 du regard que vous posez sur vous ;\n- mettre en lien votre histoire p
 ersonnelle et vos propres valeurs ;\n- révéler vos peurs et vos méc
 anismes de défense inconscients ;\n- comprendre le lien entre estime 
 de soi et choix de vie ;\n- amorcer une intégration positive du sché
 ma corporel.\nAu terme de ce séjour vous aurez restauré et/ou acquis
  une bonne estime de soi pour vous permettre de revisiter vos comporte
 ments et vos émotions et les transformer en alliés afin de retrouver
  la certitude que vous pouvez avoir foi en vos ressources ou en votre 
 destinée.\nVous réconcilier avec votre corps, l’apprivoiser, dialo
 guer avec lui et l’aimer c’est aussi vous incarner totalement.\nNo
 s séjours packages comprenent 2 nuits + petits déjeuners + dîners. 
 Formule stage uniquement possible.\nPlus de renseignements sur www.the
 rapieconseilenaquitaine.fr\n\nPour plus d'information, aller sur https
 ://epanews.fr/events/stage-estime-de-soi-confiance-en-soi
DTSTART;TZID=Europe/Paris:20120806T000000
DTEND;TZID=Europe/Paris:20120813T235900
CATEGORIES:tous
LOCATION:La Douze
WEBSITE:http://www.therapieconseilenaquitaine.fr
URL:http://www.therapieconseilenaquitaine.fr
CONTACT:06 01 96 01 30
ORGANIZER;CN="Patricia Emmerling":https://epanews.fr/profile/PatriciaE
 mmerling
ATTACH;FMTTYPE="image/jpeg":
ATTENDEE;ROLE=REQ-PARTICIPANT;PARTSTAT=ACCEPTED;RSVP=TRUE;CN="Patricia
  Emmerling":https://epanews.fr/profile/PatriciaEmmerling
END:VEVENT
END:VCALENDAR
