BEGIN:VCALENDAR
PRODID:NingEventWidget-v1
VERSION:2.0
METHOD:PUBLISH
BEGIN:VTIMEZONE
TZID:Europe/Paris
X-LIC-LOCATION:Europe/Paris
BEGIN:DAYLIGHT
TZOFFSETFROM:+0100
TZOFFSETTO:+0200
TZNAME:CEST
DTSTART:19700329T020000
RRULE:FREQ=YEARLY;BYMONTH=3;BYDAY=-1SU
END:DAYLIGHT
BEGIN:STANDARD
TZOFFSETFROM:+0200
TZOFFSETTO:+0100
TZNAME:CET
DTSTART:19701025T030000
RRULE:FREQ=YEARLY;BYMONTH=10;BYDAY=-1SU
END:STANDARD
END:VTIMEZONE
BEGIN:VEVENT
UID:2485226:Event:1802755
DTSTAMP:20260422T164110Z
SUMMARY:Modification demandÃ©e
DESCRIPTION:Â Les samedi 8 et dimanche 9 mars, aura lieu une nouvelle 
 fois le stageÂ :Â Â«Â Communiquer avec la NatureÂ Â» Ã  Escamps dans l
 e Lot (46). Ce stage est ouvert Ã  toutes les personnes ayant dÃ©jÃ  s
 uivi chez nous, le stage ressenti niveau 1. Pour les autres, une journ
 Ã©e initiation au ressenti est prÃ©vue le vendredi 7 mars. Voir dates 
 et lieuÂ :Â http://energie-et-geobiologie.fr/stage-rencontre-esprits-n
 ature.htm\nÂ Dans ce monde dit Â«Â civilisÃ©Â Â» mais qui lâ€™est de m
 oins en moins pour lâ€™individu, lâ€™humain, c'est-Ã -dire chacun dâ€™
 entre nous, perd de plus en plus ses repÃ¨res. Son stress augmente ain
 si que ses craintes, proportionnellement Ã  la dÃ©shumanisation des li
 eux de travail et la disparition de la Nature. Et pourtant, vous Ãªtes
  de plus en plus nombreux Ã  vouloir retrouver le chemin du savoir per
 du et plus encore, avoir un besoin urgent de vous poserÂ !\nÂ UN MONDE
  INVISIBLE ET MAGIQUE\nDans un endroit prÃ©servÃ©, au milieu des bois,
  venez-vous ressourcer auprÃ¨s de puissantes Ã©nergies. Venez rÃ©appre
 ndre comment retrouver votre plÃ©nitude, comment vous recentrer grÃ¢ce
  Ã Â lâ€™Esprit du VentÂ (et ce, pas seulement le temps du stage). Lai
 ssez-vous porter par la beautÃ© des arbres et en toute quiÃ©tude, reco
 nnectez-vous Ã Â lâ€™Esprit de la ForÃªt.\nÂ DES PROTOCOLES SIMPLES\nA
 u cours de ce stage sur les Â«Â Esprits de la NatureÂ Â», par lâ€™acqu
 isition de protocoles simples, expÃ©rimentÃ©s parÂ StÃ©phane Cardinaux
 Â puisÂ Yann Lipnick, nous vous proposons de (re-)dÃ©couvrir vos capac
 itÃ©s, de ressentir lâ€™invisible. AprÃ¨s une Ã©tude thÃ©orique et rap
 ide des diffÃ©rents Ãªtres habitant les bois, les prÃ©s, les eaux etc,
  place est faite exclusivement Ã  la pratique. Rapidement et en appliq
 uant les conseils, vous Ãªtes en mesure de prendre conscience et commu
 niquer avec lâ€™invisible. Contacter les Esprits de la Nature omniprÃ©
 sents autour de nous comme lesÂ FÃ©es, lesÂ Elfes, lesÂ Nains, lesÂ Gn
 omes, lesÂ DragonsÂ etc. devient accessible. (VidÃ©o prÃ©sentant le dÃ
 ©roulement du stage et des tÃ©moignages (Ã  la fin)) :Â http://energie
 -et-geobiologie.fr/videos-soins-energetiques-geobiologie.html\nÂ A bie
 ntÃ´t\nNath\n\nPour plus d'information, aller sur https://epanews.fr/e
 vents/stage-esprits-de-la-nature-7-8-9-03-14-lot-46
DTSTART;TZID=Europe/Paris:20140307T000000
DTEND;TZID=Europe/Paris:20140309T235900
CATEGORIES:46
LOCATION:Escamps prÃ¨s de Cahors (46)
WEBSITE:http://energie-et-geobiologie.fr/
URL:http://energie-et-geobiologie.fr/
CONTACT:06 20 65 03 41
ORGANIZER;CN="Nathalie Andreu Renault":https://epanews.fr/profile/Nath
 alieAndreuRenault
ATTACH;FMTTYPE="image/jpeg":http://storage.ning.com/topology/rest/1.0/
 file/get/1663073902?profile=original
ATTENDEE;ROLE=REQ-PARTICIPANT;PARTSTAT=ACCEPTED;RSVP=TRUE;CN="Nathalie
  Andreu Renault":https://epanews.fr/profile/NathalieAndreuRenault
END:VEVENT
END:VCALENDAR
