BEGIN:VCALENDAR
PRODID:NingEventWidget-v1
VERSION:2.0
METHOD:PUBLISH
BEGIN:VTIMEZONE
TZID:Europe/Paris
X-LIC-LOCATION:Europe/Paris
BEGIN:DAYLIGHT
TZOFFSETFROM:+0100
TZOFFSETTO:+0200
TZNAME:CEST
DTSTART:19700329T020000
RRULE:FREQ=YEARLY;BYMONTH=3;BYDAY=-1SU
END:DAYLIGHT
BEGIN:STANDARD
TZOFFSETFROM:+0200
TZOFFSETTO:+0100
TZNAME:CET
DTSTART:19701025T030000
RRULE:FREQ=YEARLY;BYMONTH=10;BYDAY=-1SU
END:STANDARD
END:VTIMEZONE
BEGIN:VEVENT
UID:2485226:Event:1607039
DTSTAMP:20260423T100143Z
SUMMARY:Stage Energies et Communication avec le corps
DESCRIPTION:Objectif :\nEn 2 jours\n- Développer un outil de travail
  sur soi et sur les autres, basé sur la communication cellulaire et l
 e Quantum Touch®, en captant les informations que nous donne l’envi
 ronnement des êtres vivants en général, dans le but de les aider et
  de s’aider soi-même.\n- Voir comment les attitudes, les situations
  extérieures nous affectent et de quelle manière provoquer des chang
 ements profonds pour ne plus en souffrir.\nLes techniques sont simples
 , rapides à acquérir et utilisables dans tous les aspects de sa vie,
  dans la relation aux autres et à soi.\nInscriptions obligatoires à 
 romarty@orange.fr ou 06 83 47 70 64 ou au Centre La Source\n\nPour plu
 s d'information, aller sur https://epanews.fr/events/stage-energies-et
 -communication-avec-le-corps
DTSTART;TZID=Europe/Paris:20131116T000000
DTEND;TZID=Europe/Paris:20131117T235900
CATEGORIES:32
LOCATION:Centre LA SOURCE à Marciac
WEBSITE:http://www.marciaclasource.com/
URL:http://www.marciaclasource.com/
CONTACT:05 62 08 22 13
ORGANIZER:Robert MARTY et La Source à Marciac
ATTACH;FMTTYPE="image/jpeg":http://storage.ning.com/topology/rest/1.0/
 file/get/1662959975?profile=original
ATTENDEE;ROLE=REQ-PARTICIPANT;PARTSTAT=ACCEPTED;RSVP=TRUE;CN="Robert M
 ARTY":https://epanews.fr/profile/RobertMARTY
END:VEVENT
END:VCALENDAR
