BEGIN:VCALENDAR
PRODID:NingEventWidget-v1
VERSION:2.0
METHOD:PUBLISH
BEGIN:VTIMEZONE
TZID:Europe/Paris
X-LIC-LOCATION:Europe/Paris
BEGIN:DAYLIGHT
TZOFFSETFROM:+0100
TZOFFSETTO:+0200
TZNAME:CEST
DTSTART:19700329T020000
RRULE:FREQ=YEARLY;BYMONTH=3;BYDAY=-1SU
END:DAYLIGHT
BEGIN:STANDARD
TZOFFSETFROM:+0200
TZOFFSETTO:+0100
TZNAME:CET
DTSTART:19701025T030000
RRULE:FREQ=YEARLY;BYMONTH=10;BYDAY=-1SU
END:STANDARD
END:VTIMEZONE
BEGIN:VEVENT
UID:2485226:Event:1708729
DTSTAMP:20260422T152028Z
SUMMARY:stage en développement spirituel à FEZ
DESCRIPTION:Stage en développement personnel et spirituel\n\nUn stage
  en développement personnel et spirituel \npour vous reconnecter à 
 votre corps, coeur et âme\n\n \n \nLes temps de méditations et soi
 n énergétique \nseront en connection avec le monde spirituel angél
 ique, marial, christique\nLa dernière journée sera consacrée à l'a
 ncrage via la terre-mère Gaïa.\n\nCe stage permet de vous guider sur
  votre mission spirituelle:\n- développer votre connection spirituell
 e\n- recevoir des guérisons spirituelles\n- éveiller vos dons et tal
 ents\n \nUn stage en développement personnel et spirituel de \n4 ma
 tinées de 9H00 à 13H30 et un temps d'intégration rapide.\n \nLe co
 ntenu du stage en développement personnel et spirituel\nalternent des
  ateliers spirituels, créatifs et de bien-être.\n- des tisanes purif
 icatrices\n- des temps de méditation et bénédiction\n- des soins é
 nergétiques collectifs\n- une constellation spirituelle  Constellat
 ion spirituelle\n- la bénédiction des anges: Guérison angélique\n
 - Auto massage\n- Mandala\n- Dessin inspiré\n- Balade dans la nature.
 \n\n \nLes horaires sont de :\n9H00 à 13h30\n \nLe prix:\n500 euros
  sans hébergement.\n \nLe lieux:\nFEZ (Maroc) une capitale spirituel
 le dans laquelle l'énergie est propice à tout travail spirituel\ndan
 s:  Notre centre de développement personnel à FEZ - MAROC\n \nL'o
 rganisation:\nJe me ferai un plaisir de vous mettre en relation avec m
 es partenaires locaux\nafin que votre séjour soit mémorable.\n\n\nPo
 ur plus d'information, aller sur https://epanews.fr/events/stage-en-d-
 veloppement-spirituel-fez-2
DTSTART;TZID=Europe/Paris:20140307T093000
DTEND;TZID=Europe/Paris:20140310T013000
CATEGORIES:tous
LOCATION:FEZ Maroc
WEBSITE:
URL:
CONTACT:
ORGANIZER;CN="Céline VLAMINCK":https://epanews.fr/profile/CelineVLAMI
 NCK
ATTACH;FMTTYPE="image/jpeg":http://storage.ning.com/topology/rest/1.0/
 file/get/1663011855?profile=original
ATTENDEE;ROLE=REQ-PARTICIPANT;PARTSTAT=ACCEPTED;RSVP=TRUE;CN="Céline 
 VLAMINCK":https://epanews.fr/profile/CelineVLAMINCK
END:VEVENT
END:VCALENDAR
