BEGIN:VCALENDAR
PRODID:NingEventWidget-v1
VERSION:2.0
METHOD:PUBLISH
BEGIN:VTIMEZONE
TZID:Europe/Paris
X-LIC-LOCATION:Europe/Paris
BEGIN:DAYLIGHT
TZOFFSETFROM:+0100
TZOFFSETTO:+0200
TZNAME:CEST
DTSTART:19700329T020000
RRULE:FREQ=YEARLY;BYMONTH=3;BYDAY=-1SU
END:DAYLIGHT
BEGIN:STANDARD
TZOFFSETFROM:+0200
TZOFFSETTO:+0100
TZNAME:CET
DTSTART:19701025T030000
RRULE:FREQ=YEARLY;BYMONTH=10;BYDAY=-1SU
END:STANDARD
END:VTIMEZONE
BEGIN:VEVENT
UID:2485226:Event:2325364
DTSTAMP:20260422T152628Z
SUMMARY:Stage en Art-mano thérapie
DESCRIPTION:Peindre avec les doigts, découvrir son potentiel créatif
 , vivre le moment présent sans se prendre la tête. Tout un programme
  pour se connaître librement et savourer pleinement la vie offerte.\n
 \"N'hésitez pas un faire un pas vers vous-mêmes et à créer autreme
 nt selon votre propre intuition.\"\n\nPour plus d'information, aller s
 ur https://epanews.fr/events/stage-en-art-mano-th-rapie
DTSTART;TZID=Europe/Paris:20150613T100000
DTEND;TZID=Europe/Paris:20150614T170000
CATEGORIES:71
LOCATION:A l'atelier Digitalis, à la campagne du Charollais-Brionnais
 .
WEBSITE:
URL:
CONTACT:
ORGANIZER;CN=Amano:https://epanews.fr/profile/Amano
ATTACH;FMTTYPE="image/jpeg":http://storage.ning.com/topology/rest/1.0/
 file/get/1663399281?profile=original
ATTENDEE;ROLE=REQ-PARTICIPANT;PARTSTAT=ACCEPTED;RSVP=TRUE;CN=Amano:htt
 ps://epanews.fr/profile/Amano
END:VEVENT
END:VCALENDAR
