BEGIN:VCALENDAR
PRODID:NingEventWidget-v1
VERSION:2.0
METHOD:PUBLISH
BEGIN:VTIMEZONE
TZID:Europe/Paris
X-LIC-LOCATION:Europe/Paris
BEGIN:DAYLIGHT
TZOFFSETFROM:+0100
TZOFFSETTO:+0200
TZNAME:CEST
DTSTART:19700329T020000
RRULE:FREQ=YEARLY;BYMONTH=3;BYDAY=-1SU
END:DAYLIGHT
BEGIN:STANDARD
TZOFFSETFROM:+0200
TZOFFSETTO:+0100
TZNAME:CET
DTSTART:19701025T030000
RRULE:FREQ=YEARLY;BYMONTH=10;BYDAY=-1SU
END:STANDARD
END:VTIMEZONE
BEGIN:VEVENT
UID:2485226:Event:181474
DTSTAMP:20260420T235726Z
SUMMARY:Stage \"Développer son écoute pour rencontrer l'autre\"
DESCRIPTION:par Marie-Laure Cornière et Anaïs Euverte, formatrices e
 n communication relationnelle\n \nCe stage a pour objectif de vous ai
 der à développer vos capacités d'écoute. Il s'agira d'apprendre à
  s'ouvrir à l'autre, à l'accueillir...pour lui permettre de s'entend
 re. De proposer ainsi une écoute qui favorise une relation authentiqu
 e à autrui.\nCe stage est ouvert à toute personne désireuse d'appre
 ndre à écouter, que ce soit dans un cadre personnel (couple, enfants
 ...) ou professionnel (y compris pour les professionnels de la relatio
 n d'aide).\n \nAu cours de cette journée, nous nous appuireons sur l
 es situations concrètes des participants pour vous proposer des outil
 s et des repères pour apprendre à écouter.\nNous vous proposons de 
 découvrir et de mettre en pratique la méthode ESPERE de Jacques Salo
 mé. Cette approche est une pédagogie de la communication, issue de 
 la psychologie humaniste. Elle permet d'apprendre à communiquer pour 
 développer des relations vivantes, dans le respect de soi et de l'aut
 re.\n \nTarifs : 60 euros la journée\nTarif réduit : 45 euros (chô
 meurs, étudiants, bénéficiaires de RSA sur présentation d'un justi
 ficatif)\nTarif réduit pour les inscriptions avant le 15/01/2011 : 45
  euros\n \nRenseignements et inscriptions :\n \nanaiseuverte@yahoo.f
 r\nml.corniere@hotmail.com\n \nhttp://ateliersdecommunication.blogspo
 t.com/\n\n\nPour plus d'information, aller sur https://epanews.fr/even
 ts/stage-developper-son-ecoute
DTSTART;TZID=Europe/Paris:20110206T000000
DTEND;TZID=Europe/Paris:20110206T235900
CATEGORIES:75
LOCATION:Paris
WEBSITE:
URL:
CONTACT:0674522555
ORGANIZER;CN=Anaïs:https://epanews.fr/profile/Anais
ATTACH;FMTTYPE="image/jpeg":
ATTENDEE;ROLE=REQ-PARTICIPANT;PARTSTAT=ACCEPTED;RSVP=TRUE;CN=Anaïs:ht
 tps://epanews.fr/profile/Anais
END:VEVENT
END:VCALENDAR
