BEGIN:VCALENDAR
PRODID:NingEventWidget-v1
VERSION:2.0
METHOD:PUBLISH
BEGIN:VTIMEZONE
TZID:Europe/Paris
X-LIC-LOCATION:Europe/Paris
BEGIN:DAYLIGHT
TZOFFSETFROM:+0100
TZOFFSETTO:+0200
TZNAME:CEST
DTSTART:19700329T020000
RRULE:FREQ=YEARLY;BYMONTH=3;BYDAY=-1SU
END:DAYLIGHT
BEGIN:STANDARD
TZOFFSETFROM:+0200
TZOFFSETTO:+0100
TZNAME:CET
DTSTART:19701025T030000
RRULE:FREQ=YEARLY;BYMONTH=10;BYDAY=-1SU
END:STANDARD
END:VTIMEZONE
BEGIN:VEVENT
UID:2485226:Event:402011
DTSTAMP:20260425T233851Z
SUMMARY:Stage d'été : 3 jours de retraite, de détente, de découver
 te de pratiques
DESCRIPTION:Bulletin d'inscription, frais de stage et modalités d'acc
 ueil\n\nPour plus d'information, aller sur https://epanews.fr/events/s
 tage-dete-3-jours-de
DTSTART;TZID=Europe/Paris:20110722T070000
DTEND;TZID=Europe/Paris:20110724T180000
CATEGORIES:30, 34, 84, 43
LOCATION:Goudet
WEBSITE:http://www.lemniscate-processus.com
URL:http://www.lemniscate-processus.com
CONTACT:0466261683
ORGANIZER;CN="Jardin intérieur":https://epanews.fr/profile/Lemniscate
 Processus
ATTACH;FMTTYPE="image/jpeg":
ATTENDEE;ROLE=REQ-PARTICIPANT;PARTSTAT=ACCEPTED;RSVP=TRUE;CN="Jardin i
 ntérieur":https://epanews.fr/profile/LemniscateProcessus
ATTENDEE;ROLE=REQ-PARTICIPANT;PARTSTAT=TENTATIVE;RSVP=TRUE;CN=spirit83
 :https://epanews.fr/profile/spirit83
END:VEVENT
END:VCALENDAR
