BEGIN:VCALENDAR
PRODID:NingEventWidget-v1
VERSION:2.0
METHOD:PUBLISH
BEGIN:VTIMEZONE
TZID:Europe/Paris
X-LIC-LOCATION:Europe/Paris
BEGIN:DAYLIGHT
TZOFFSETFROM:+0100
TZOFFSETTO:+0200
TZNAME:CEST
DTSTART:19700329T020000
RRULE:FREQ=YEARLY;BYMONTH=3;BYDAY=-1SU
END:DAYLIGHT
BEGIN:STANDARD
TZOFFSETFROM:+0200
TZOFFSETTO:+0100
TZNAME:CET
DTSTART:19701025T030000
RRULE:FREQ=YEARLY;BYMONTH=10;BYDAY=-1SU
END:STANDARD
END:VTIMEZONE
BEGIN:VEVENT
UID:2485226:Event:417324
DTSTAMP:20260425T053429Z
SUMMARY:Stage d'enseignement et d'initiation au LaHoChi
DESCRIPTION:Le LaHoChi est une technique de soins trÃ¨s puissante tran
 smise par l'imposition des mains qui apporte une trÃ¨s haute frÃ©quenc
 e de la lumiÃ¨re. Il est considÃ©rÃ© par certains comme une forme de R
 eiki.Â \nÂ \nLaHoChi (qui se prononce lah hoe chee) est une Ã©nergie s
 pirituelle de guÃ©rison aux frÃ©quences vibratoires trÃ¨s Ã©levÃ©es. E
 lle permet d'accÃ©der Ã  une plus grande comprÃ©hension et utilisation
  de l'Energie Universelle de Vie pour soi-mÃªme et pour aider les autr
 es.\nÂ \nLe LaHoChi peut-Ãªtre utilisÃ© seul ou en combinaison avec d'
 autres systÃ¨mes de soins. Le LaHoChi permet d'accÃ©der et d'intÃ©grer
  des Ã©nergies subtiles de guÃ©rison aux frÃ©quences plus Ã©levÃ©es, o
 uvrant Ã  la conscience multidimensionnelle.\nÂ \nLe LaHoChi restructu
 re et Ã©quilibre les corps subtils de l'Etre, particuliÃ¨rement lorsqu
 'il y a eu un traumatisme dans le corps Ã©motionnel.\nÂ \nL'enseigneme
 nt LaHoChi a Ã©tÃ© transmis par un maÃ®tre spirituel du chi - le MaÃ®t
 re LaHoChi - qui existe dans les Royaumes AngÃ©liques auprÃ¨s du MaÃ®t
 re Spirituel Satchamar, le 15 mai 1991. Leur union Ã©nergÃ©tique a per
 mis d'activer ces Ã©nergies spirituelles de guÃ©rison.\nÂ \nPrÃ©-requi
 s\nPour tous, que vous dÃ©siriez travailler Ã  votreÂ  dÃ©veloppement 
 personnelÂ ou aider les autres, ce stage est fait pour vous. La format
 ion ne fait aucune rÃ©fÃ©rence particuliÃ¨re Ã  une religion ou Ã  une
  secte, de quelques maniÃ¨res ou forme que ce soit.Â \nÂ \nLs Stage\nL
 'enseignement du LaHoChi est transmis dans le cadre de cet atelier et 
 comprend une initiation ainsi qu'un enseignement complet permettant d'
 intÃ©grer la technique de soinsÂ afin de mettre en pratique l'Auto-tra
 itement et les positions nÃ©cessaires pour les traitements sur autrui.
 \nÂ \nLieu : Vincennes (proche mÃ©tro ligne 1 et Rer A)\nDurÃ©e : une 
 1/2 journÃ©e (5h)\nTarif : 150 â‚¬ (Arrhes : 50 â‚¬ Ã  l'inscritpion p
 uis le jour du stage paiement au comptant ouÂ en 2 fois par chÃ¨que po
 ssible)\nNombre de participantsÂ : 4 maximum\nÂ \nUn manuel couleur et
  complet est remis en main propre durant le stage et vous recevez un c
 ertificat Ã  l'issue du stage.\nÂ \nPour plus d'informations, vous pou
 vez tÃ©lÃ©charger la documentation et le bulletin d'inscription en cli
 quant ci-aprÃ¨s : Formulaire%20d%27inscription%20-%20Atelier%20Lahochi
 .pdfÂ \nÂ \nContacts\nVous avez des questions complÃ©mentaires ?\nCont
 actez moi par mail : contact@lahochi.fr ou par tÃ©lÃ©phone au : 06 60Â
  775Â 075.\nÂ \nA bientÃ´t\nÂ \nDidier\n\nPour plus d'information, all
 er sur https://epanews.fr/events/stage-denseignement-et
DTSTART;TZID=Europe/Paris:20110730T140000
DTEND;TZID=Europe/Paris:20110730T190000
CATEGORIES:94
LOCATION:VINCENNES
WEBSITE:http://www.alter-synergie.fr/atelier-lahochi/
URL:http://www.alter-synergie.fr/atelier-lahochi/
CONTACT:06 60 775 075
ORGANIZER;CN=Didier:https://epanews.fr/profile/Didier
ATTACH;FMTTYPE="image/jpeg":http://storage.ning.com/topology/rest/1.0/
 file/get/1662440319?profile=original
ATTENDEE;ROLE=REQ-PARTICIPANT;PARTSTAT=ACCEPTED;RSVP=TRUE;CN=Didier:ht
 tps://epanews.fr/profile/Didier
END:VEVENT
END:VCALENDAR
