BEGIN:VCALENDAR
PRODID:NingEventWidget-v1
VERSION:2.0
METHOD:PUBLISH
BEGIN:VTIMEZONE
TZID:Europe/Paris
X-LIC-LOCATION:Europe/Paris
BEGIN:DAYLIGHT
TZOFFSETFROM:+0100
TZOFFSETTO:+0200
TZNAME:CEST
DTSTART:19700329T020000
RRULE:FREQ=YEARLY;BYMONTH=3;BYDAY=-1SU
END:DAYLIGHT
BEGIN:STANDARD
TZOFFSETFROM:+0200
TZOFFSETTO:+0100
TZNAME:CET
DTSTART:19701025T030000
RRULE:FREQ=YEARLY;BYMONTH=10;BYDAY=-1SU
END:STANDARD
END:VTIMEZONE
BEGIN:VEVENT
UID:2485226:Event:875917
DTSTAMP:20260422T104646Z
SUMMARY:Stage de Wuo Tai ou OstÃ©o-danse
DESCRIPTION:LeÂ  WUO TAI ou OSTEODANSE\n\nUneÂ pratique rÃ©centeÂ de Â
 «Â bien ÃªtreÂ Â»\nUn Yoga Ã  deux, au sol, habillÃ©, pour tout Ã¢ge\n
 Des Gestes simples qui allient danse et ostÃ©opathie\nUne dÃ©tente dan
 s le donner et le recevoir\nUn Rendez-vous de fluiditÃ©, de douceur, d
 'agilitÃ©, de dÃ©couverte, de partage en musique :\nUne invitation Ã  
 entrer dans un moment d'Ã©ternitÃ©\nen vivant pleinement l'instant prÃ
 ©sent ...\nL'art de bouger autrement...\n\n\n\nPour plus d'information
 , aller sur https://epanews.fr/events/stage-de-wuo-tai-ou-ost-o-danse
DTSTART;TZID=Europe/Paris:20120729T000000
DTEND;TZID=Europe/Paris:20120804T235900
CATEGORIES:07
LOCATION:Village du Lac - Centre PrÃ©sence
WEBSITE:http://www.presence-ardeche.com/wuo-tai-murielle-chatel.html
URL:http://www.presence-ardeche.com/wuo-tai-murielle-chatel.html
CONTACT:06 09 05 73 42
ORGANIZER;CN=Muri-Ailes:https://epanews.fr/profile/chatel
ATTACH;FMTTYPE="image/jpeg":http://storage.ning.com/topology/rest/1.0/
 file/get/1662630965?profile=original
ATTENDEE;ROLE=REQ-PARTICIPANT;PARTSTAT=ACCEPTED;RSVP=TRUE;CN=Muri-Aile
 s:https://epanews.fr/profile/chatel
END:VEVENT
END:VCALENDAR
