BEGIN:VCALENDAR
PRODID:NingEventWidget-v1
VERSION:2.0
METHOD:PUBLISH
BEGIN:VTIMEZONE
TZID:Europe/Paris
X-LIC-LOCATION:Europe/Paris
BEGIN:DAYLIGHT
TZOFFSETFROM:+0100
TZOFFSETTO:+0200
TZNAME:CEST
DTSTART:19700329T020000
RRULE:FREQ=YEARLY;BYMONTH=3;BYDAY=-1SU
END:DAYLIGHT
BEGIN:STANDARD
TZOFFSETFROM:+0200
TZOFFSETTO:+0100
TZNAME:CET
DTSTART:19701025T030000
RRULE:FREQ=YEARLY;BYMONTH=10;BYDAY=-1SU
END:STANDARD
END:VTIMEZONE
BEGIN:VEVENT
UID:2485226:Event:965719
DTSTAMP:20260422T024547Z
SUMMARY:Stage de tantra pour couples
DESCRIPTION:Tantra : Tantra pour couple ou duo dans la vie Animateur: 
 Patrick Adalbéron et Elisabeth Gau Pays: France Accordez vous un WE p
 our redécouvrir votre couple, le dynamiser à travers une sexualité 
 joyeuse et sublimée dans votre quotidien afin de ne pas le laisser s'
 étioler. Apprendre à donner et à recevoir différemment. Etre dans 
 l'écoute de soi et de l'autre pour retrouver une compréhension mutue
 lle dans les besoins de chacun et ne pas rester dans les non-dits. Les
  ateliers pratiques de ce stage, bien qu'impliquants, ne contiennent p
 as de rapport sexuel.\nelisabeth.patrick.adal@gmail.com\n\nPour plus d
 'information, aller sur https://epanews.fr/events/stage-de-tantra-pour
 -couples
DTSTART;TZID=Europe/Paris:20130125T190000
DTEND;TZID=Europe/Paris:20130127T050000
CATEGORIES:67220
LOCATION:FOUCHY
WEBSITE:http://www.corpsenvie.com
URL:http://www.corpsenvie.com
CONTACT:0662682008 ou 0389573490
ORGANIZER;CN=tantra-alsace:https://epanews.fr/profile/tantraalsace
ATTACH;FMTTYPE="image/jpeg":http://storage.ning.com/topology/rest/1.0/
 file/get/1662672565?profile=original
ATTENDEE;ROLE=REQ-PARTICIPANT;PARTSTAT=ACCEPTED;RSVP=TRUE;CN=tantra-al
 sace:https://epanews.fr/profile/tantraalsace
END:VEVENT
END:VCALENDAR
