BEGIN:VCALENDAR
PRODID:NingEventWidget-v1
VERSION:2.0
METHOD:PUBLISH
BEGIN:VTIMEZONE
TZID:Europe/Paris
X-LIC-LOCATION:Europe/Paris
BEGIN:DAYLIGHT
TZOFFSETFROM:+0100
TZOFFSETTO:+0200
TZNAME:CEST
DTSTART:19700329T020000
RRULE:FREQ=YEARLY;BYMONTH=3;BYDAY=-1SU
END:DAYLIGHT
BEGIN:STANDARD
TZOFFSETFROM:+0200
TZOFFSETTO:+0100
TZNAME:CET
DTSTART:19701025T030000
RRULE:FREQ=YEARLY;BYMONTH=10;BYDAY=-1SU
END:STANDARD
END:VTIMEZONE
BEGIN:VEVENT
UID:2485226:Event:3055300
DTSTAMP:20260423T165104Z
SUMMARY:Stage de Tambour Chamanique \"Tompa\" en Yourte
DESCRIPTION:Week-ends intenses, rÃ©gÃ©nÃ©rants et stimulants permettan
 t de sâ€™Ã©veiller aux effets vibratoires du Tambour et de ses rÃ©sona
 nces chamaniques.\n Ces stages sont de vÃ©ritables catalyseurs Ã©nergÃ
 ©tiques bienfaisants alliant le corps Ã  la vibration du Tambour, pour
  un travail en profondeur associÃ© aux magies de la nature environnant
 e.\nLa connexion chamanique induite par le travail de Wyngalian vous p
 ermettra dâ€™approcher des frÃ©quences vibratoires libÃ©ratrices et pu
 issantes par la grÃ¢ce du tambour, du mouvement et du son !\n Pension 
 complÃ¨te bio et vÃ©gÃ©tarienne, hÃ©bergement en tente et Yourte.\n\nP
 our plus d'information, aller sur https://epanews.fr/events/stage-de-t
 ambour-chamanique-tompa
DTSTART;TZID=Europe/Paris:20200403T170000
DTEND;TZID=Europe/Paris:20200405T170000
CATEGORIES:83
LOCATION:Varages
WEBSITE:https://tambourchamanique.fr/
URL:https://tambourchamanique.fr/
CONTACT:0664411778
ORGANIZER;CN=Wyngalian:https://epanews.fr/profile/Wyngalian
ATTACH;FMTTYPE="image/jpeg":https://storage.ning.com/topology/rest/1.0
 /file/get/3857360926?profile=original
ATTENDEE;ROLE=REQ-PARTICIPANT;PARTSTAT=ACCEPTED;RSVP=TRUE;CN=Wyngalian
 :https://epanews.fr/profile/Wyngalian
END:VEVENT
END:VCALENDAR
