BEGIN:VCALENDAR
PRODID:NingEventWidget-v1
VERSION:2.0
METHOD:PUBLISH
BEGIN:VTIMEZONE
TZID:Europe/Paris
X-LIC-LOCATION:Europe/Paris
BEGIN:DAYLIGHT
TZOFFSETFROM:+0100
TZOFFSETTO:+0200
TZNAME:CEST
DTSTART:19700329T020000
RRULE:FREQ=YEARLY;BYMONTH=3;BYDAY=-1SU
END:DAYLIGHT
BEGIN:STANDARD
TZOFFSETFROM:+0200
TZOFFSETTO:+0100
TZNAME:CET
DTSTART:19701025T030000
RRULE:FREQ=YEARLY;BYMONTH=10;BYDAY=-1SU
END:STANDARD
END:VTIMEZONE
BEGIN:VEVENT
UID:2485226:Event:1775009
DTSTAMP:20260421T190652Z
SUMMARY:Stage de simplicté volontaire, en roulotte
DESCRIPTION:Nous avons le plaisir de vous inviter à nos stages de S
 implicité Volontaire. Dès le mois de  juin, vous pouvez participer
  à notre stage \"Allez Simple!\" en INDIVIDUEL ou en COUPLE. Durant c
 e stage, vous logerez dans notre ROULOTTE d'amis pour un séjour \"à 
 la carte\". Pendant 4 à 10 jours selon vos disponibilités et envies
 , vous pourrez vous immerger dans le quotidien de la vie au jardin.  
 Premières dates disponibles du 3 au 10 juin...\n\n\n\nComme l´année
  dernière, le stage est axé sur la Simplicité Volontaire, et propos
 e des activités variées qui permettront aux participants de (re)déc
 ouvrir et de mettre en œuvre les aspects pratiques de cette démarche
 : ralentir, se désencombrer, partager des savoirs. Dans l´option ave
 c logement en roulotte, les activités de base, pourront être complé
 tés par un programme individualisé qui comprendra selon vos goûts e
 t besoins: autonomie alimentaire, découvertes naturalistes,  détent
 e et spiritualité, cuisine et gastronomie végétarienne ou végétal
 ienne, jardinage en permaculture.  Le stage se voudra le plus souple 
 possible afin de rencontrer les besoins individuels de chaque particip
 ant. Il n’y a aucun prérequis outre celui de vouloir se reconnecter
  à l’essentiel et d’accepter, durant quelques jours de faire ce c
 hemin en commun.\n\n Vous préférez venir á plusieurs, vous êtes un
  groupe constitué de 3 à 5 personnes, amis, collègues, membres d'un
  cercle et vous désirez participer à un stage de simplicité volonta
 ire? Pas de problème, des stages de groupe avec logement en auberge s
 ont également proposés,\n\n \n\nPour plus d'information, aller sur 
 https://epanews.fr/events/stage-de-simplict-volontaire-en-roulotte
DTSTART;TZID=Europe/Paris:20140602T180000
DTEND;TZID=Europe/Paris:20140602T190000
CATEGORIES:république, tchèque
LOCATION:Rybník
WEBSITE:http://www.compagnons.cz
URL:http://www.compagnons.cz
CONTACT:+420775513989
ORGANIZER;CN="Les Compagnons":https://epanews.fr/profile/LesCompagnons
ATTACH;FMTTYPE="image/jpeg":http://storage.ning.com/topology/rest/1.0/
 file/get/1663054728?profile=original
ATTENDEE;ROLE=REQ-PARTICIPANT;PARTSTAT=ACCEPTED;RSVP=TRUE;CN="Les Comp
 agnons":https://epanews.fr/profile/LesCompagnons
END:VEVENT
END:VCALENDAR
