BEGIN:VCALENDAR
PRODID:NingEventWidget-v1
VERSION:2.0
METHOD:PUBLISH
BEGIN:VTIMEZONE
TZID:Europe/Paris
X-LIC-LOCATION:Europe/Paris
BEGIN:DAYLIGHT
TZOFFSETFROM:+0100
TZOFFSETTO:+0200
TZNAME:CEST
DTSTART:19700329T020000
RRULE:FREQ=YEARLY;BYMONTH=3;BYDAY=-1SU
END:DAYLIGHT
BEGIN:STANDARD
TZOFFSETFROM:+0200
TZOFFSETTO:+0100
TZNAME:CET
DTSTART:19701025T030000
RRULE:FREQ=YEARLY;BYMONTH=10;BYDAY=-1SU
END:STANDARD
END:VTIMEZONE
BEGIN:VEVENT
UID:2485226:Event:518883
DTSTAMP:20260423T081436Z
SUMMARY:Stage de Reiki 1er degré à la Seyne sur mer
DESCRIPTION:Un stage de formation Reiki 1 er degré est ouvert\nle lun
 di et mardi 26 et 27 septembre 2011\nde 09h30 à 17hoo\nPlaces restant
 es nb 3\nParticipation : 120 €\nadresse : le Byzance III rue Pierre 
 Curie\n83500 la Seyne sur mer\nhttp://lapprenti-sage.jimdo.com\n \n\n
 Pour plus d'information, aller sur https://epanews.fr/events/stage-de-
 reiki-1er-degr-la-seyne-sur-mer
DTSTART;TZID=Europe/Paris:20110926T093000
DTEND;TZID=Europe/Paris:20110927T170000
CATEGORIES:83
LOCATION:83500 la syne sur mer
WEBSITE:http://lapprenti-sage.jimdo.com
URL:http://lapprenti-sage.jimdo.com
CONTACT:0619151670
ORGANIZER;CN="Franck et Nadine Sarah Aubert":https://epanews.fr/profil
 e/FranckAUBERT
ATTACH;FMTTYPE="image/jpeg":http://storage.ning.com/topology/rest/1.0/
 file/get/1662456224?profile=original
ATTENDEE;ROLE=REQ-PARTICIPANT;PARTSTAT=ACCEPTED;RSVP=TRUE;CN="Franck e
 t Nadine Sarah Aubert":https://epanews.fr/profile/FranckAUBERT
END:VEVENT
END:VCALENDAR
